BEGIN:VCALENDAR
VERSION:2.0
PRODID:-//Chateau du Lac - ECPv6.15.17//NONSGML v1.0//EN
CALSCALE:GREGORIAN
METHOD:PUBLISH
X-WR-CALNAME:Chateau du Lac
X-ORIGINAL-URL:https://chateaudulac.ca
X-WR-CALDESC:Events for Chateau du Lac
REFRESH-INTERVAL;VALUE=DURATION:PT1H
X-Robots-Tag:noindex
X-PUBLISHED-TTL:PT1H
BEGIN:VTIMEZONE
TZID:America/Toronto
BEGIN:DAYLIGHT
TZOFFSETFROM:-0500
TZOFFSETTO:-0400
TZNAME:EDT
DTSTART:20250309T070000
END:DAYLIGHT
BEGIN:STANDARD
TZOFFSETFROM:-0400
TZOFFSETTO:-0500
TZNAME:EST
DTSTART:20251102T060000
END:STANDARD
BEGIN:DAYLIGHT
TZOFFSETFROM:-0500
TZOFFSETTO:-0400
TZNAME:EDT
DTSTART:20260308T070000
END:DAYLIGHT
BEGIN:STANDARD
TZOFFSETFROM:-0400
TZOFFSETTO:-0500
TZNAME:EST
DTSTART:20261101T060000
END:STANDARD
BEGIN:DAYLIGHT
TZOFFSETFROM:-0500
TZOFFSETTO:-0400
TZNAME:EDT
DTSTART:20270314T070000
END:DAYLIGHT
BEGIN:STANDARD
TZOFFSETFROM:-0400
TZOFFSETTO:-0500
TZNAME:EST
DTSTART:20271107T060000
END:STANDARD
END:VTIMEZONE
BEGIN:VEVENT
DTSTART;TZID=America/Toronto:20260417T220000
DTEND;TZID=America/Toronto:20260417T220000
DTSTAMP:20260423T121551
CREATED:20260406T131644Z
LAST-MODIFIED:20260406T131722Z
UID:5699-1776463200-1776463200@chateaudulac.ca
SUMMARY:Y2K Night
DESCRIPTION:It’s giving 2000! 🪩 \nFriday April 17th\, it’s the return of Y2K Night with DJ KRAKEN. \nDig out your best early 2000s fit and let’s party like it’s 1999! 💿
URL:https://chateaudulac.ca/event/y2k-night/
CATEGORIES:Event,Featured,Featured DJ,Party
ATTACH;FMTTYPE=image/png:https://chateaudulac.ca/wp-content/uploads/2026/04/CDL_POST_Y2KFB.png
END:VEVENT
END:VCALENDAR