BEGIN:VCALENDAR
VERSION:2.0
PRODID:-//Chateau du Lac - ECPv6.15.17//NONSGML v1.0//EN
CALSCALE:GREGORIAN
METHOD:PUBLISH
X-WR-CALNAME:Chateau du Lac
X-ORIGINAL-URL:https://chateaudulac.ca
X-WR-CALDESC:Events for Chateau du Lac
REFRESH-INTERVAL;VALUE=DURATION:PT1H
X-Robots-Tag:noindex
X-PUBLISHED-TTL:PT1H
BEGIN:VTIMEZONE
TZID:America/Toronto
BEGIN:DAYLIGHT
TZOFFSETFROM:-0500
TZOFFSETTO:-0400
TZNAME:EDT
DTSTART:20250309T070000
END:DAYLIGHT
BEGIN:STANDARD
TZOFFSETFROM:-0400
TZOFFSETTO:-0500
TZNAME:EST
DTSTART:20251102T060000
END:STANDARD
BEGIN:DAYLIGHT
TZOFFSETFROM:-0500
TZOFFSETTO:-0400
TZNAME:EDT
DTSTART:20260308T070000
END:DAYLIGHT
BEGIN:STANDARD
TZOFFSETFROM:-0400
TZOFFSETTO:-0500
TZNAME:EST
DTSTART:20261101T060000
END:STANDARD
BEGIN:DAYLIGHT
TZOFFSETFROM:-0500
TZOFFSETTO:-0400
TZNAME:EDT
DTSTART:20270314T070000
END:DAYLIGHT
BEGIN:STANDARD
TZOFFSETFROM:-0400
TZOFFSETTO:-0500
TZNAME:EST
DTSTART:20271107T060000
END:STANDARD
END:VTIMEZONE
BEGIN:VEVENT
DTSTART;TZID=America/Toronto:20260501T220000
DTEND;TZID=America/Toronto:20260501T220000
DTSTAMP:20260423T151634
CREATED:20260406T132235Z
LAST-MODIFIED:20260406T132242Z
UID:5708-1777672800-1777672800@chateaudulac.ca
SUMMARY:Country Night
DESCRIPTION:Let’s kick off May the right way! 👢Country Night\, Friday May 1st. Boots\, hats\, and good times at the Chat! 🎶📍 460 Main Street\, Hudson
URL:https://chateaudulac.ca/event/country-night-9/
CATEGORIES:Event,Featured,Featured DJ,Party
ATTACH;FMTTYPE=image/png:https://chateaudulac.ca/wp-content/uploads/2026/04/CDL_POST_CountryagainFB.png
END:VEVENT
BEGIN:VEVENT
DTSTART;TZID=America/Toronto:20260508T220000
DTEND;TZID=America/Toronto:20260508T220000
DTSTAMP:20260423T151634
CREATED:20260406T132734Z
LAST-MODIFIED:20260406T132739Z
UID:5715-1778277600-1778277600@chateaudulac.ca
SUMMARY:White Lies Party
DESCRIPTION:White Lies Party Friday May 8th! 🤥Wear a shirt with your best (or worst) white lie and let’s see who’s got the funniest one. Get creative! 👕
URL:https://chateaudulac.ca/event/white-lies-party-2/
CATEGORIES:Event,Featured,Featured DJ,Party
ATTACH;FMTTYPE=image/png:https://chateaudulac.ca/wp-content/uploads/2026/04/CDL_POST_WhiteLiesFB.png
END:VEVENT
END:VCALENDAR