BEGIN:VCALENDAR
VERSION:2.0
PRODID:-//Chateau du Lac - ECPv6.15.17//NONSGML v1.0//EN
CALSCALE:GREGORIAN
METHOD:PUBLISH
X-WR-CALNAME:Chateau du Lac
X-ORIGINAL-URL:https://chateaudulac.ca
X-WR-CALDESC:Events for Chateau du Lac
REFRESH-INTERVAL;VALUE=DURATION:PT1H
X-Robots-Tag:noindex
X-PUBLISHED-TTL:PT1H
BEGIN:VTIMEZONE
TZID:America/Toronto
BEGIN:DAYLIGHT
TZOFFSETFROM:-0500
TZOFFSETTO:-0400
TZNAME:EDT
DTSTART:20220313T070000
END:DAYLIGHT
BEGIN:STANDARD
TZOFFSETFROM:-0400
TZOFFSETTO:-0500
TZNAME:EST
DTSTART:20221106T060000
END:STANDARD
BEGIN:DAYLIGHT
TZOFFSETFROM:-0500
TZOFFSETTO:-0400
TZNAME:EDT
DTSTART:20230312T070000
END:DAYLIGHT
BEGIN:STANDARD
TZOFFSETFROM:-0400
TZOFFSETTO:-0500
TZNAME:EST
DTSTART:20231105T060000
END:STANDARD
BEGIN:DAYLIGHT
TZOFFSETFROM:-0500
TZOFFSETTO:-0400
TZNAME:EDT
DTSTART:20240310T070000
END:DAYLIGHT
BEGIN:STANDARD
TZOFFSETFROM:-0400
TZOFFSETTO:-0500
TZNAME:EST
DTSTART:20241103T060000
END:STANDARD
END:VTIMEZONE
BEGIN:VEVENT
DTSTART;TZID=America/Toronto:20231104T190000
DTEND;TZID=America/Toronto:20231104T190000
DTSTAMP:20260424T153859
CREATED:20230918T202041Z
LAST-MODIFIED:20231004T200236Z
UID:4566-1699124400-1699124400@chateaudulac.ca
SUMMARY:Halloween Party
DESCRIPTION:Avez-vous des plans pour l’Halloween? Our Halloween party is November 4th. 🎃 \nBe sure to dress to impress for our costume contest\, with fantastic prizes up for grabs. See you there! 🎃👻
URL:https://chateaudulac.ca/event/halloween-party/
CATEGORIES:Event,Featured,Party
ATTACH;FMTTYPE=image/jpeg:https://chateaudulac.ca/wp-content/uploads/2023/09/CDL_FB_post_halloweenparty-1.jpg
END:VEVENT
BEGIN:VEVENT
DTSTART;TZID=America/Toronto:20231101T193000
DTEND;TZID=America/Toronto:20231101T193000
DTSTAMP:20260424T153859
CREATED:20231024T134544Z
LAST-MODIFIED:20231031T175729Z
UID:4600-1698867000-1698867000@chateaudulac.ca
SUMMARY:Trivia Night - 2000s sitcoms
DESCRIPTION:Ready to rewind to an iconic era? Join us on November 1st for Trivia Night with a throwback twist. ✨ \nOur theme: 2000s sitcoms! It’s time to test your knowledge. 📺🧠 \nGather your F.R.I.E.N.D.S and let’s make it a night to remember! 😉 \n  \nCall us to sign up! \n📞(450) 458-4092
URL:https://chateaudulac.ca/event/trivia-night-2000s-sitcoms/
CATEGORIES:Event,Featured,Trivia
ATTACH;FMTTYPE=image/jpeg:https://chateaudulac.ca/wp-content/uploads/2023/10/CDL_FB_post_trivia_2000s-2.jpg
END:VEVENT
BEGIN:VEVENT
DTSTART;TZID=America/Toronto:20231027T190000
DTEND;TZID=America/Toronto:20231027T190000
DTSTAMP:20260424T153859
CREATED:20231002T183056Z
LAST-MODIFIED:20231004T195240Z
UID:4587-1698433200-1698433200@chateaudulac.ca
SUMMARY:Black & Orange themed party
DESCRIPTION:Halloween is sneaking up on us\, so let’s pay tribute to all the pumpkins out there! 🎃 \nHow? By dressing up in Orange\, at our Black & Orange Themed Night\, on October 27th! 🖤 \nOn se voit au Château! 🦇👻
URL:https://chateaudulac.ca/event/black-orange-themed-party/
CATEGORIES:Event,Featured,Party
ATTACH;FMTTYPE=image/jpeg:https://chateaudulac.ca/wp-content/uploads/2023/10/CDL_FB_post_blackandorange.jpg
END:VEVENT
BEGIN:VEVENT
DTSTART;TZID=America/Toronto:20231026T190000
DTEND;TZID=America/Toronto:20231026T190000
DTSTAMP:20260424T153859
CREATED:20230918T201647Z
LAST-MODIFIED:20231002T185709Z
UID:4562-1698346800-1698346800@chateaudulac.ca
SUMMARY:Eric Calder
DESCRIPTION:Back by popular demand! Join us on October 26th for another amazing performance by Eric Calder\, the talented young indie/pop artist. 🎤 \nWe couldn’t get enough last time\, so we had to bring him back. 😎 \nCome and enjoy an evening of great music and good vibes! 🎶
URL:https://chateaudulac.ca/event/eric-calder-9/
CATEGORIES:Event,Featured,Live Music
ATTACH;FMTTYPE=image/jpeg:https://chateaudulac.ca/wp-content/uploads/2023/09/CDL_FB_post_E_ericcalder-3.jpg
END:VEVENT
BEGIN:VEVENT
DTSTART;TZID=America/Toronto:20231022T190000
DTEND;TZID=America/Toronto:20231022T230000
DTSTAMP:20260424T153859
CREATED:20231002T182835Z
LAST-MODIFIED:20231002T184003Z
UID:4585-1698001200-1698015600@chateaudulac.ca
SUMMARY:Paint Night with Jess & Dan
DESCRIPTION:Calling all aspiring Picassos! 🎨 \nJoin us on October 22nd at 7:00PM for a creative and colourful Paint Nite with Jess & Dan. 🖌️🍷 \nLimited spots available\, so grab your tickets via their Facebook page & get ready to unleash your inner artist! 🎉🖼️ \n  \nTickets : 👇 \nhttps://www.facebook.com/JessandDansPaintNiteMontreal
URL:https://chateaudulac.ca/event/paint-night-with-jess-dan/
CATEGORIES:Event,Featured,Party
ATTACH;FMTTYPE=image/jpeg:https://chateaudulac.ca/wp-content/uploads/2023/10/CDL_FB_post_paintnite.jpg
END:VEVENT
BEGIN:VEVENT
DTSTART;TZID=America/Toronto:20231020T220000
DTEND;TZID=America/Toronto:20231020T220000
DTSTAMP:20260424T153859
CREATED:20230918T201854Z
LAST-MODIFIED:20231004T194916Z
UID:4564-1697839200-1697839200@chateaudulac.ca
SUMMARY:Country Night with DJ Konga
DESCRIPTION:Get ready to kick up some dust and groove to the country beats at Château du Lac! 🐎🎶 \nOn October 20th at 10:00 PM\, DJ Konga will be spinning the best country hits for a boot-stompin’ good time! 💃 \nC’est la soirée incontournable pour tous les fans de country! 🤠
URL:https://chateaudulac.ca/event/country-night-with-dj-konga-2/
CATEGORIES:Event,Featured,Party
ATTACH;FMTTYPE=image/jpeg:https://chateaudulac.ca/wp-content/uploads/2023/09/CDL_FB_post_E_countrynight-3.jpg
END:VEVENT
BEGIN:VEVENT
DTSTART;TZID=America/Toronto:20231019T190000
DTEND;TZID=America/Toronto:20231019T190000
DTSTAMP:20260424T153859
CREATED:20230918T201505Z
LAST-MODIFIED:20231002T185608Z
UID:4560-1697742000-1697742000@chateaudulac.ca
SUMMARY:The Wineberries
DESCRIPTION:Join us on October 19th for a delightful evening of live music with the acoustic duo The Wineberries. 🎤 \nTheir harmonious melodies and captivating performance promise a wonderful night of music. 🎶 \nDon’t miss out! 🎵
URL:https://chateaudulac.ca/event/the-wineberries-4/
CATEGORIES:Event,Featured,Live Music
ATTACH;FMTTYPE=image/jpeg:https://chateaudulac.ca/wp-content/uploads/2023/09/CDL_FB_post_E_wineberries-3.jpg
END:VEVENT
BEGIN:VEVENT
DTSTART;TZID=America/Toronto:20231018T193000
DTEND;TZID=America/Toronto:20231018T193000
DTSTAMP:20260424T153859
CREATED:20230918T201259Z
LAST-MODIFIED:20231002T185507Z
UID:4558-1697657400-1697657400@chateaudulac.ca
SUMMARY:Harry Potter Trivia Night with Andrew Dumas
DESCRIPTION:Calling all wizards and witches! 🧙‍♂️✨ \nJoin us on October 18th for a magical Trivia Night hosted by the enchanting Andrew Dumas. \nThis time\, it’s all about Harry Potter\, so leave your muggle friends behind! 🪄📚
URL:https://chateaudulac.ca/event/harry-potter-trivia-night-with-andrew-dumas/
CATEGORIES:Event,Featured,Trivia
ATTACH;FMTTYPE=image/jpeg:https://chateaudulac.ca/wp-content/uploads/2023/09/CDL_FB_post_harrypottertrivia-2.jpg
END:VEVENT
BEGIN:VEVENT
DTSTART;TZID=America/Toronto:20231014T210000
DTEND;TZID=America/Toronto:20231014T210000
DTSTAMP:20260424T153859
CREATED:20230918T200818Z
LAST-MODIFIED:20231002T185412Z
UID:4556-1697317200-1697317200@chateaudulac.ca
SUMMARY:Steve Gravel Band
DESCRIPTION:Get ready to dance and sing along to classic rock and country hits! 🕺 \nJoin us on October 14th for the Steve Gravel Band’s electrifying performance. 🎸🎤 \nTheir music is guaranteed to get you on your feet and having a great time. On se voit au Château!
URL:https://chateaudulac.ca/event/steve-gravel-band/
CATEGORIES:Event,Featured,Live Music
ATTACH;FMTTYPE=image/jpeg:https://chateaudulac.ca/wp-content/uploads/2023/09/CDL_FB_post_E_stevegravelband.jpg
END:VEVENT
BEGIN:VEVENT
DTSTART;TZID=America/Toronto:20231013T220000
DTEND;TZID=America/Toronto:20231013T220000
DTSTAMP:20260424T153859
CREATED:20230918T200643Z
LAST-MODIFIED:20231002T185345Z
UID:4554-1697234400-1697234400@chateaudulac.ca
SUMMARY:2000's Night
DESCRIPTION:Join us for a night of throwback music! 🎉🎶 \nOn October 13th\, it’s 2000s Night with guest DJs Grizzly Anderson & Daytona. 🎧 \nVenez nous rejoindre! Don’t miss out! 🕺
URL:https://chateaudulac.ca/event/2000s-night/
CATEGORIES:Event,Featured,Party
ATTACH;FMTTYPE=image/jpeg:https://chateaudulac.ca/wp-content/uploads/2023/09/2000s-poster-1.jpg
END:VEVENT
BEGIN:VEVENT
DTSTART;TZID=America/Toronto:20231012T190000
DTEND;TZID=America/Toronto:20231012T190000
DTSTAMP:20260424T153859
CREATED:20230918T200243Z
LAST-MODIFIED:20231002T185315Z
UID:4552-1697137200-1697137200@chateaudulac.ca
SUMMARY:Morgan Weinmeister
DESCRIPTION:Join us on October 12th for a fantastic night with the Chat’s beloved Morgan Weinmeister. 🎸 \nShe’s our local star\, and we’re always thrilled to have her grace our stage. 🌟 \nPlus\, who knows\, you might be lucky enough to hear some exclusive songs from her upcoming album! 🎶🎤
URL:https://chateaudulac.ca/event/morgan-weinmeister-2/
CATEGORIES:Event,Featured,Live Music
ATTACH;FMTTYPE=image/jpeg:https://chateaudulac.ca/wp-content/uploads/2023/09/CDL_FB_post_E_morginator.jpg
END:VEVENT
BEGIN:VEVENT
DTSTART;TZID=America/Toronto:20231007T210000
DTEND;TZID=America/Toronto:20231007T210000
DTSTAMP:20260424T153859
CREATED:20230918T200055Z
LAST-MODIFIED:20231002T185123Z
UID:4550-1696712400-1696712400@chateaudulac.ca
SUMMARY:Forgotten Frequency
DESCRIPTION:Don’t miss out on a mesmerizing musical experience! 🎸 \nJoin us on October 7th as Forgotten Frequency takes the stage. 🎵 \nTheir performance will be unforgettable. 😉 See you there!
URL:https://chateaudulac.ca/event/forgotten-frequency/
CATEGORIES:Event,Featured,Live Music
ATTACH;FMTTYPE=image/jpeg:https://chateaudulac.ca/wp-content/uploads/2023/09/CDL_FB_post_E_forgottenfrequency.jpg
END:VEVENT
BEGIN:VEVENT
DTSTART;TZID=America/Toronto:20231006T220000
DTEND;TZID=America/Toronto:20231006T220000
DTSTAMP:20260424T153859
CREATED:20230918T195907Z
LAST-MODIFIED:20231002T184906Z
UID:4548-1696629600-1696629600@chateaudulac.ca
SUMMARY:Beer Pong tournament
DESCRIPTION:Join us on October 6th at 10pm for our Beer Pong Tournament! 🍻 \nReady to test your aim and have a blast? 🎯 \nNe manquez pas ça!
URL:https://chateaudulac.ca/event/beer-pong-tournament/
CATEGORIES:Event,Featured,Party
ATTACH;FMTTYPE=image/jpeg:https://chateaudulac.ca/wp-content/uploads/2023/09/CDL_FB_post_E_beerpong-2.jpg
END:VEVENT
BEGIN:VEVENT
DTSTART;TZID=America/Toronto:20231005T190000
DTEND;TZID=America/Toronto:20231005T190000
DTSTAMP:20260424T153859
CREATED:20230918T195658Z
LAST-MODIFIED:20231002T184815Z
UID:4546-1696532400-1696532400@chateaudulac.ca
SUMMARY:Robert Scott
DESCRIPTION:Get ready to rock out! 🤘 \nJoin us on October 5th as we welcome Robert Scott to the Chat. 🎸 \nIt’s going to be an epic night of music!🎶
URL:https://chateaudulac.ca/event/robert-scott-4/
CATEGORIES:Event,Featured,Live Music
ATTACH;FMTTYPE=image/jpeg:https://chateaudulac.ca/wp-content/uploads/2023/09/CDL_FB_post_E_robertscott-1.jpg
END:VEVENT
BEGIN:VEVENT
DTSTART;TZID=America/Toronto:20231004T193000
DTEND;TZID=America/Toronto:20231004T193000
DTSTAMP:20260424T153859
CREATED:20230927T203817Z
LAST-MODIFIED:20231002T184840Z
UID:4573-1696447800-1696447800@chateaudulac.ca
SUMMARY:Trivia Night with Andrew Dumas
DESCRIPTION:Think you’re the smartest cookie in the jar? Prove it and win fantastic prizes while you’re at it! 🏆🤓 \nJoin us for a night of brain-busting fun at Trivia Night with Andrew Dumas on October 4th at 7:30 PM! 🧠💡 \nRassemblez vos amis intelligents et retrouvez-nous au Château! 📚🤯
URL:https://chateaudulac.ca/event/trivia-night-with-andrew-dumas-5/
CATEGORIES:Event,Featured,Trivia
ATTACH;FMTTYPE=image/jpeg:https://chateaudulac.ca/wp-content/uploads/2023/09/CDL_FB_post_andrewdumastrivia.jpg
END:VEVENT
BEGIN:VEVENT
DTSTART;TZID=America/Toronto:20230930T210000
DTEND;TZID=America/Toronto:20231001T030000
DTSTAMP:20260424T153859
CREATED:20230918T190739Z
LAST-MODIFIED:20230918T190739Z
UID:4540-1696107600-1696129200@chateaudulac.ca
SUMMARY:BH Connexion
DESCRIPTION:Get ready for an amazing musical experience at Chateau du Lac! 🎶  \nLe 30 septembre à 21h\, nous avons une performance spéciale de BH Connexion.  \nTheir electrifying performance and fantastic tunes will have you dancing all night long! 🎤🕺
URL:https://chateaudulac.ca/event/bh-connexion-2/
CATEGORIES:Event,Featured,Live Music
ATTACH;FMTTYPE=image/jpeg:https://chateaudulac.ca/wp-content/uploads/2023/09/CDL_FB_post_E_bhconnexion-2-1.jpg
END:VEVENT
BEGIN:VEVENT
DTSTART;TZID=America/Toronto:20230929T220000
DTEND;TZID=America/Toronto:20230930T030000
DTSTAMP:20260424T153859
CREATED:20230918T190441Z
LAST-MODIFIED:20230918T190442Z
UID:4538-1696024800-1696042800@chateaudulac.ca
SUMMARY:Country Night with DJ Konga
DESCRIPTION:Grab your cowboy hats\, because it’s Country Night at the Chat! 🤠🎶 \nThis Friday\, September 29th\, at 10:00 PM\, get ready for a night of toe-tapping tunes and line-dancing fun with DJ Konga! 🎤💃 \nC’est la soirée parfaite pour tous les amoureux de country! 🐎
URL:https://chateaudulac.ca/event/country-night-with-dj-konga/
CATEGORIES:Event,Featured,Party
END:VEVENT
BEGIN:VEVENT
DTSTART;TZID=America/Toronto:20230928T193000
DTEND;TZID=America/Toronto:20230928T213000
DTSTAMP:20260424T153859
CREATED:20230523T145750Z
LAST-MODIFIED:20230523T145751Z
UID:4385-1695929400-1695936600@chateaudulac.ca
SUMMARY:Eric Calder
DESCRIPTION:His name is Eric\, a talent so unique. \nHis voice so smooth\, it makes us weak. \nSo gather ’round and let the music flow. \nAs Eric Calder’s tunes take us high and low. \nC’est ce jeudi 28 septembre\, 7:30 pm!
URL:https://chateaudulac.ca/event/eric-calder-8/
CATEGORIES:Event,Featured,Live Music
END:VEVENT
BEGIN:VEVENT
DTSTART;TZID=America/Toronto:20230923T210000
DTEND;TZID=America/Toronto:20230924T030000
DTSTAMP:20260424T153859
CREATED:20230911T165624Z
LAST-MODIFIED:20230918T181027Z
UID:4526-1695502800-1695524400@chateaudulac.ca
SUMMARY:Paolo Stante
DESCRIPTION:Mark your calendars for this Saturday\, September 23rd\, at 9:00 PM when we welcome the electrifying Paolo Stante to our stage. 🎵 \nSa performance énergique va illuminer votre soirée!  \nJoin us for an unforgettable night filled with music and entertainment! 🎤💃
URL:https://chateaudulac.ca/event/people-stante/
CATEGORIES:Event,Featured,Live Music
ATTACH;FMTTYPE=image/jpeg:https://chateaudulac.ca/wp-content/uploads/2023/09/CDL_FB_post_E_paolostante.jpg
END:VEVENT
BEGIN:VEVENT
DTSTART;TZID=America/Toronto:20230921T190000
DTEND;TZID=America/Toronto:20230922T030000
DTSTAMP:20260424T153900
CREATED:20230911T165237Z
LAST-MODIFIED:20230918T181142Z
UID:4522-1695322800-1695351600@chateaudulac.ca
SUMMARY:Jeff Waters
DESCRIPTION:Préparez-vous pour une soirée musicale envoûtante au Château du Lac! 🎶 \nOn Thursday\, September 21st\, starting at 7:00 PM\, we’re excited to welcome the incredibly talented Jeff Waters to our stage. \nJoin us for a night you won’t want to miss! 🎤🕺
URL:https://chateaudulac.ca/event/jeff-waters-4/
CATEGORIES:Event,Featured,Live Music
ATTACH;FMTTYPE=image/jpeg:https://chateaudulac.ca/wp-content/uploads/2023/09/CDL_FB_post_E_jeffwaters.jpg
END:VEVENT
BEGIN:VEVENT
DTSTART;TZID=America/Toronto:20230920T193000
DTEND;TZID=America/Toronto:20230921T030000
DTSTAMP:20260424T153900
CREATED:20230918T180020Z
LAST-MODIFIED:20230918T180020Z
UID:4532-1695238200-1695265200@chateaudulac.ca
SUMMARY:Trivia Night With Andrew Dumas
DESCRIPTION:Think you’ve got what it takes to conquer our trivia challenge? 🔎 \nJoin us at The Château’s Trivia Night on Wednesday\, September 20th\, hosted by the brilliant Andrew Dumas. \nGet ready to flex those mental muscles\, and we’ll see you there\, smarty! 🧠
URL:https://chateaudulac.ca/event/trivia-night-with-andrew-dumas-4/
CATEGORIES:Featured,Trivia
END:VEVENT
BEGIN:VEVENT
DTSTART;TZID=America/Toronto:20230918T080000
DTEND;TZID=America/Toronto:20230918T170000
DTSTAMP:20260424T153900
CREATED:20230918T191022Z
LAST-MODIFIED:20230918T191022Z
UID:4543-1695024000-1695056400@chateaudulac.ca
SUMMARY:Robert Scott
DESCRIPTION:Get ready to rock out! 🤘 \nJoin us on October 5th as we welcome Robert Scott to the Chat. 🎸 \nIt’s going to be an epic night of music!🎶
URL:https://chateaudulac.ca/event/robert-scott-3/
CATEGORIES:Event,Featured,Live Music
END:VEVENT
BEGIN:VEVENT
DTSTART;TZID=America/Toronto:20230916T210000
DTEND;TZID=America/Toronto:20230917T030000
DTSTAMP:20260424T153900
CREATED:20230911T165106Z
LAST-MODIFIED:20230911T165107Z
UID:4519-1694898000-1694919600@chateaudulac.ca
SUMMARY:Sanitaerium
DESCRIPTION:Get ready for an incredible musical night at Château du Lac! 🎶  \nOn September 16th at 9 pm\, we have a special performance by Sanitaerium.  \nLeur présence scénique envoutante et leurs airs fantastiques vous feront danser toute la nuit! 🎤🕺
URL:https://chateaudulac.ca/event/sanitaerium/
CATEGORIES:Event,Featured,Live Music
ATTACH;FMTTYPE=image/jpeg:https://chateaudulac.ca/wp-content/uploads/2023/09/CDL_FB_post_E_sanitaerium-2.jpg
END:VEVENT
BEGIN:VEVENT
DTSTART;TZID=America/Toronto:20230902T213000
DTEND;TZID=America/Toronto:20230902T233000
DTSTAMP:20260424T153900
CREATED:20230519T151539Z
LAST-MODIFIED:20230803T172328Z
UID:4365-1693690200-1693697400@chateaudulac.ca
SUMMARY:Hysteria
DESCRIPTION:On September 2nd\, let’s get rocked\, with @Hysteria\, Montreal’s tribute band to the great Def Leppard! You’ll want to pour some sugar on somebody when you hear to those love bites of songs.
URL:https://chateaudulac.ca/event/hysteria/
CATEGORIES:Event,Featured,Live Music
ATTACH;FMTTYPE=image/jpeg:https://chateaudulac.ca/wp-content/uploads/2023/05/CDL_FB_post_E_hysteria.jpg
END:VEVENT
BEGIN:VEVENT
DTSTART;TZID=America/Toronto:20230831T193000
DTEND;TZID=America/Toronto:20230831T213000
DTSTAMP:20260424T153900
CREATED:20230523T145641Z
LAST-MODIFIED:20230803T171811Z
UID:4383-1693510200-1693517400@chateaudulac.ca
SUMMARY:Eric Calder
DESCRIPTION:Terrific Eric is back to make your heart tick! Ce jeudi 31 août\, Eric Calder will have you dancing and shouting “encore”! \nBe there at 7:30 pm for pop-tastic melodies and an awesome voice!
URL:https://chateaudulac.ca/event/eric-calder-7/
CATEGORIES:Event,Featured,Live Music
ATTACH;FMTTYPE=image/jpeg:https://chateaudulac.ca/wp-content/uploads/2023/05/CDL_FB_post_E_ericcalder.jpg
END:VEVENT
BEGIN:VEVENT
DTSTART;TZID=America/Toronto:20230827T210000
DTEND;TZID=America/Toronto:20230828T210000
DTSTAMP:20260424T153900
CREATED:20230804T180936Z
LAST-MODIFIED:20230804T180936Z
UID:4515-1693170000-1693256400@chateaudulac.ca
SUMMARY:Industry Night
DESCRIPTION:You teach? You serve and protect? You take care of our families? You work in the industry? 🤘 Let us celebrate you for everything you do daily! \n🎉 Chaque dimanche\, c’est Industry Night au Château du Lac! Viens en profiter ce soir! Enjoy $5 speedrail drinks from 9 pm!
URL:https://chateaudulac.ca/event/industry-night-24/
CATEGORIES:Event,Featured
ATTACH;FMTTYPE=image/jpeg:https://chateaudulac.ca/wp-content/uploads/2023/08/CDL_FB_post_industrynight2-2-1.jpg
END:VEVENT
BEGIN:VEVENT
DTSTART;TZID=America/Toronto:20230827T150000
DTEND;TZID=America/Toronto:20230827T170000
DTSTAMP:20260424T153900
CREATED:20230728T174820Z
LAST-MODIFIED:20230728T174820Z
UID:4479-1693148400-1693155600@chateaudulac.ca
SUMMARY:Jim & Matt
DESCRIPTION:Y’all ready for some country music at Château du Lac? 🎵🤠  \nJoin us on August 27th for Country Music Sundays\, featuring the dynamic duo\, Jim & Matt\, at 3 pm. 🎸  \nSirotez vos boissons préférées et dansez au rythme de la musique country! 🍻
URL:https://chateaudulac.ca/event/jim-matt/
CATEGORIES:Event,Featured,Live Music
ATTACH;FMTTYPE=image/jpeg:https://chateaudulac.ca/wp-content/uploads/2023/07/CDL_FB_post_E_jimnmatt.jpg
END:VEVENT
BEGIN:VEVENT
DTSTART;TZID=America/Toronto:20230826T213000
DTEND;TZID=America/Toronto:20230826T233000
DTSTAMP:20260424T153900
CREATED:20230519T151213Z
LAST-MODIFIED:20230728T174325Z
UID:4362-1693085400-1693092600@chateaudulac.ca
SUMMARY:Hit Squad
DESCRIPTION:Join the ultimate party powerhouse\, Hit Squad\, as they unleash an unstoppable wave of chart-topping hits that will make you dance like nobody’s watching!
URL:https://chateaudulac.ca/event/hit-squad/
CATEGORIES:Event,Featured,Live Music
ATTACH;FMTTYPE=image/jpeg:https://chateaudulac.ca/wp-content/uploads/2023/05/CDL_FB_post_E_hitsquad.jpg
END:VEVENT
BEGIN:VEVENT
DTSTART;TZID=America/Toronto:20230825T220000
DTEND;TZID=America/Toronto:20230826T220000
DTSTAMP:20260424T153900
CREATED:20230804T180643Z
LAST-MODIFIED:20230804T180644Z
UID:4512-1693000800-1693087200@chateaudulac.ca
SUMMARY:Ladies Night
DESCRIPTION:💃 But girls\, they wanna have fun \nOh girls just wanna have fun \nDès 10 PM\, party like Cyndi! Cuz we know you wanna have fun! It’s Ladies Night! \n🍹 Enjoy our $5 speedrail drinks and dance all night!
URL:https://chateaudulac.ca/event/ladies-night-23/
CATEGORIES:Event,Featured
ATTACH;FMTTYPE=image/jpeg:https://chateaudulac.ca/wp-content/uploads/2023/08/CDL_FB_post_ladiesnight1-2-2.jpg
END:VEVENT
BEGIN:VEVENT
DTSTART;TZID=America/Toronto:20230824T190000
DTEND;TZID=America/Toronto:20230824T210000
DTSTAMP:20260424T153900
CREATED:20230728T174040Z
LAST-MODIFIED:20230728T174041Z
UID:4476-1692903600-1692910800@chateaudulac.ca
SUMMARY:Robert Scott
DESCRIPTION:Get ready for a musical evening at Château du Lac! 🎶🎤  \nJoin us on August 24th for a special porch performance featuring the talented Robert Scott at 7PM. 🎸🍷 \nProfitez des mélodies enchanteresses! 🌟
URL:https://chateaudulac.ca/event/robert-scott-2/
CATEGORIES:Event,Featured,Live Music
ATTACH;FMTTYPE=image/jpeg:https://chateaudulac.ca/wp-content/uploads/2023/07/CDL_FB_post_E_robertscott.jpg
END:VEVENT
END:VCALENDAR