BEGIN:VCALENDAR
VERSION:2.0
PRODID:-//Chateau du Lac - ECPv6.15.17//NONSGML v1.0//EN
CALSCALE:GREGORIAN
METHOD:PUBLISH
X-WR-CALNAME:Chateau du Lac
X-ORIGINAL-URL:https://chateaudulac.ca
X-WR-CALDESC:Events for Chateau du Lac
REFRESH-INTERVAL;VALUE=DURATION:PT1H
X-Robots-Tag:noindex
X-PUBLISHED-TTL:PT1H
BEGIN:VTIMEZONE
TZID:America/Toronto
BEGIN:DAYLIGHT
TZOFFSETFROM:-0500
TZOFFSETTO:-0400
TZNAME:EDT
DTSTART:20220313T070000
END:DAYLIGHT
BEGIN:STANDARD
TZOFFSETFROM:-0400
TZOFFSETTO:-0500
TZNAME:EST
DTSTART:20221106T060000
END:STANDARD
BEGIN:DAYLIGHT
TZOFFSETFROM:-0500
TZOFFSETTO:-0400
TZNAME:EDT
DTSTART:20230312T070000
END:DAYLIGHT
BEGIN:STANDARD
TZOFFSETFROM:-0400
TZOFFSETTO:-0500
TZNAME:EST
DTSTART:20231105T060000
END:STANDARD
BEGIN:DAYLIGHT
TZOFFSETFROM:-0500
TZOFFSETTO:-0400
TZNAME:EDT
DTSTART:20240310T070000
END:DAYLIGHT
BEGIN:STANDARD
TZOFFSETFROM:-0400
TZOFFSETTO:-0500
TZNAME:EST
DTSTART:20241103T060000
END:STANDARD
END:VTIMEZONE
BEGIN:VEVENT
DTSTART;TZID=America/Toronto:20230920T193000
DTEND;TZID=America/Toronto:20230921T030000
DTSTAMP:20260424T202521
CREATED:20230918T180020Z
LAST-MODIFIED:20230918T180020Z
UID:4532-1695238200-1695265200@chateaudulac.ca
SUMMARY:Trivia Night With Andrew Dumas
DESCRIPTION:Think you’ve got what it takes to conquer our trivia challenge? 🔎 \nJoin us at The Château’s Trivia Night on Wednesday\, September 20th\, hosted by the brilliant Andrew Dumas. \nGet ready to flex those mental muscles\, and we’ll see you there\, smarty! 🧠
URL:https://chateaudulac.ca/event/trivia-night-with-andrew-dumas-4/
CATEGORIES:Featured,Trivia
END:VEVENT
BEGIN:VEVENT
DTSTART;TZID=America/Toronto:20230918T080000
DTEND;TZID=America/Toronto:20230918T170000
DTSTAMP:20260424T202521
CREATED:20230918T191022Z
LAST-MODIFIED:20230918T191022Z
UID:4543-1695024000-1695056400@chateaudulac.ca
SUMMARY:Robert Scott
DESCRIPTION:Get ready to rock out! 🤘 \nJoin us on October 5th as we welcome Robert Scott to the Chat. 🎸 \nIt’s going to be an epic night of music!🎶
URL:https://chateaudulac.ca/event/robert-scott-3/
CATEGORIES:Event,Featured,Live Music
END:VEVENT
BEGIN:VEVENT
DTSTART;TZID=America/Toronto:20230916T210000
DTEND;TZID=America/Toronto:20230917T030000
DTSTAMP:20260424T202521
CREATED:20230911T165106Z
LAST-MODIFIED:20230911T165107Z
UID:4519-1694898000-1694919600@chateaudulac.ca
SUMMARY:Sanitaerium
DESCRIPTION:Get ready for an incredible musical night at Château du Lac! 🎶  \nOn September 16th at 9 pm\, we have a special performance by Sanitaerium.  \nLeur présence scénique envoutante et leurs airs fantastiques vous feront danser toute la nuit! 🎤🕺
URL:https://chateaudulac.ca/event/sanitaerium/
CATEGORIES:Event,Featured,Live Music
ATTACH;FMTTYPE=image/jpeg:https://chateaudulac.ca/wp-content/uploads/2023/09/CDL_FB_post_E_sanitaerium-2.jpg
END:VEVENT
BEGIN:VEVENT
DTSTART;TZID=America/Toronto:20230902T213000
DTEND;TZID=America/Toronto:20230902T233000
DTSTAMP:20260424T202521
CREATED:20230519T151539Z
LAST-MODIFIED:20230803T172328Z
UID:4365-1693690200-1693697400@chateaudulac.ca
SUMMARY:Hysteria
DESCRIPTION:On September 2nd\, let’s get rocked\, with @Hysteria\, Montreal’s tribute band to the great Def Leppard! You’ll want to pour some sugar on somebody when you hear to those love bites of songs.
URL:https://chateaudulac.ca/event/hysteria/
CATEGORIES:Event,Featured,Live Music
ATTACH;FMTTYPE=image/jpeg:https://chateaudulac.ca/wp-content/uploads/2023/05/CDL_FB_post_E_hysteria.jpg
END:VEVENT
BEGIN:VEVENT
DTSTART;TZID=America/Toronto:20230831T193000
DTEND;TZID=America/Toronto:20230831T213000
DTSTAMP:20260424T202521
CREATED:20230523T145641Z
LAST-MODIFIED:20230803T171811Z
UID:4383-1693510200-1693517400@chateaudulac.ca
SUMMARY:Eric Calder
DESCRIPTION:Terrific Eric is back to make your heart tick! Ce jeudi 31 août\, Eric Calder will have you dancing and shouting “encore”! \nBe there at 7:30 pm for pop-tastic melodies and an awesome voice!
URL:https://chateaudulac.ca/event/eric-calder-7/
CATEGORIES:Event,Featured,Live Music
ATTACH;FMTTYPE=image/jpeg:https://chateaudulac.ca/wp-content/uploads/2023/05/CDL_FB_post_E_ericcalder.jpg
END:VEVENT
BEGIN:VEVENT
DTSTART;TZID=America/Toronto:20230827T210000
DTEND;TZID=America/Toronto:20230828T210000
DTSTAMP:20260424T202521
CREATED:20230804T180936Z
LAST-MODIFIED:20230804T180936Z
UID:4515-1693170000-1693256400@chateaudulac.ca
SUMMARY:Industry Night
DESCRIPTION:You teach? You serve and protect? You take care of our families? You work in the industry? 🤘 Let us celebrate you for everything you do daily! \n🎉 Chaque dimanche\, c’est Industry Night au Château du Lac! Viens en profiter ce soir! Enjoy $5 speedrail drinks from 9 pm!
URL:https://chateaudulac.ca/event/industry-night-24/
CATEGORIES:Event,Featured
ATTACH;FMTTYPE=image/jpeg:https://chateaudulac.ca/wp-content/uploads/2023/08/CDL_FB_post_industrynight2-2-1.jpg
END:VEVENT
BEGIN:VEVENT
DTSTART;TZID=America/Toronto:20230827T150000
DTEND;TZID=America/Toronto:20230827T170000
DTSTAMP:20260424T202521
CREATED:20230728T174820Z
LAST-MODIFIED:20230728T174820Z
UID:4479-1693148400-1693155600@chateaudulac.ca
SUMMARY:Jim & Matt
DESCRIPTION:Y’all ready for some country music at Château du Lac? 🎵🤠  \nJoin us on August 27th for Country Music Sundays\, featuring the dynamic duo\, Jim & Matt\, at 3 pm. 🎸  \nSirotez vos boissons préférées et dansez au rythme de la musique country! 🍻
URL:https://chateaudulac.ca/event/jim-matt/
CATEGORIES:Event,Featured,Live Music
ATTACH;FMTTYPE=image/jpeg:https://chateaudulac.ca/wp-content/uploads/2023/07/CDL_FB_post_E_jimnmatt.jpg
END:VEVENT
BEGIN:VEVENT
DTSTART;TZID=America/Toronto:20230826T213000
DTEND;TZID=America/Toronto:20230826T233000
DTSTAMP:20260424T202521
CREATED:20230519T151213Z
LAST-MODIFIED:20230728T174325Z
UID:4362-1693085400-1693092600@chateaudulac.ca
SUMMARY:Hit Squad
DESCRIPTION:Join the ultimate party powerhouse\, Hit Squad\, as they unleash an unstoppable wave of chart-topping hits that will make you dance like nobody’s watching!
URL:https://chateaudulac.ca/event/hit-squad/
CATEGORIES:Event,Featured,Live Music
ATTACH;FMTTYPE=image/jpeg:https://chateaudulac.ca/wp-content/uploads/2023/05/CDL_FB_post_E_hitsquad.jpg
END:VEVENT
BEGIN:VEVENT
DTSTART;TZID=America/Toronto:20230825T220000
DTEND;TZID=America/Toronto:20230826T220000
DTSTAMP:20260424T202521
CREATED:20230804T180643Z
LAST-MODIFIED:20230804T180644Z
UID:4512-1693000800-1693087200@chateaudulac.ca
SUMMARY:Ladies Night
DESCRIPTION:💃 But girls\, they wanna have fun \nOh girls just wanna have fun \nDès 10 PM\, party like Cyndi! Cuz we know you wanna have fun! It’s Ladies Night! \n🍹 Enjoy our $5 speedrail drinks and dance all night!
URL:https://chateaudulac.ca/event/ladies-night-23/
CATEGORIES:Event,Featured
ATTACH;FMTTYPE=image/jpeg:https://chateaudulac.ca/wp-content/uploads/2023/08/CDL_FB_post_ladiesnight1-2-2.jpg
END:VEVENT
BEGIN:VEVENT
DTSTART;TZID=America/Toronto:20230824T190000
DTEND;TZID=America/Toronto:20230824T210000
DTSTAMP:20260424T202521
CREATED:20230728T174040Z
LAST-MODIFIED:20230728T174041Z
UID:4476-1692903600-1692910800@chateaudulac.ca
SUMMARY:Robert Scott
DESCRIPTION:Get ready for a musical evening at Château du Lac! 🎶🎤  \nJoin us on August 24th for a special porch performance featuring the talented Robert Scott at 7PM. 🎸🍷 \nProfitez des mélodies enchanteresses! 🌟
URL:https://chateaudulac.ca/event/robert-scott-2/
CATEGORIES:Event,Featured,Live Music
ATTACH;FMTTYPE=image/jpeg:https://chateaudulac.ca/wp-content/uploads/2023/07/CDL_FB_post_E_robertscott.jpg
END:VEVENT
BEGIN:VEVENT
DTSTART;TZID=America/Toronto:20230820T210000
DTEND;TZID=America/Toronto:20230821T210000
DTSTAMP:20260424T202521
CREATED:20230804T180353Z
LAST-MODIFIED:20230804T180354Z
UID:4509-1692565200-1692651600@chateaudulac.ca
SUMMARY:Industry Night
DESCRIPTION:You teach? You serve and protect? You take care of our families? You work in the industry? 🤘 Let us celebrate you for everything you do daily! \n🎉 Chaque dimanche\, c’est Industry Night au Château du Lac! Viens en profiter ce soir! Enjoy $5 speedrail drinks from 9 pm!
URL:https://chateaudulac.ca/event/industry-night-23/
CATEGORIES:Event,Featured
ATTACH;FMTTYPE=image/jpeg:https://chateaudulac.ca/wp-content/uploads/2023/08/CDL_FB_post_industrynight-1-1.jpg
END:VEVENT
BEGIN:VEVENT
DTSTART;TZID=America/Toronto:20230820T150000
DTEND;TZID=America/Toronto:20230820T170000
DTSTAMP:20260424T202521
CREATED:20230728T173452Z
LAST-MODIFIED:20230728T173614Z
UID:4472-1692543600-1692550800@chateaudulac.ca
SUMMARY:Rob Brennan
DESCRIPTION:Saddle up for a boot-stompin’ good time at Château du Lac! 🤠🎶  \nJoin us on August 20th for Country Music Sundays featuring the incredible Rob Brennan at 3 pm. 🎸🍻  \nVous ne voulez pas manquer ça! 🤩🌵
URL:https://chateaudulac.ca/event/rob-brennan/
CATEGORIES:Event,Featured,Live Music
ATTACH;FMTTYPE=image/jpeg:https://chateaudulac.ca/wp-content/uploads/2023/07/CDL_FB_post_E_robbrennan.jpg
END:VEVENT
BEGIN:VEVENT
DTSTART;TZID=America/Toronto:20230819T210000
DTEND;TZID=America/Toronto:20230819T230000
DTSTAMP:20260424T202521
CREATED:20230705T150008Z
LAST-MODIFIED:20230728T173143Z
UID:4436-1692478800-1692486000@chateaudulac.ca
SUMMARY:Chris Birkett
DESCRIPTION:Meet Chris Birkett\, a joyful mix between Eric Clapton’s style\, Tom Petty’s voice and the energy of a tornado! This award winning producer and musician stops by the Château du Lac on Saturday August 19th. Be there!
URL:https://chateaudulac.ca/event/chris-birkett/
CATEGORIES:Event,Featured,Live Music
ATTACH;FMTTYPE=image/jpeg:https://chateaudulac.ca/wp-content/uploads/2023/07/CDL_FB_post_E_chrisbirkett.jpg
END:VEVENT
BEGIN:VEVENT
DTSTART;TZID=America/Toronto:20230818T220000
DTEND;TZID=America/Toronto:20230819T220000
DTSTAMP:20260424T202521
CREATED:20230804T180015Z
LAST-MODIFIED:20230804T180016Z
UID:4506-1692396000-1692482400@chateaudulac.ca
SUMMARY:Ladies Night
DESCRIPTION:💃 Ladies we wanna hear your ROAR! Cuz tonight is YOUR night! \n\nFrom 10 pm to midnight\n$5 speedrail drinks\nDJ Konga
URL:https://chateaudulac.ca/event/ladies-night-22/
CATEGORIES:Event,Featured
ATTACH;FMTTYPE=image/jpeg:https://chateaudulac.ca/wp-content/uploads/2023/08/CDL_FB_post_ladiesnight2-1-1.jpg
END:VEVENT
BEGIN:VEVENT
DTSTART;TZID=America/Toronto:20230813T210000
DTEND;TZID=America/Toronto:20230814T210000
DTSTAMP:20260424T202521
CREATED:20230804T163729Z
LAST-MODIFIED:20230804T163800Z
UID:4502-1691960400-1692046800@chateaudulac.ca
SUMMARY:Industry Night
DESCRIPTION:You teach? You serve and protect? You take care of our families? You work in the industry? 🤘 Let us celebrate you for everything you do daily! \n🎉 Chaque dimanche\, c’est Industry Night au Château du Lac! Viens en profiter ce soir! Enjoy $5 speedrail drinks from 9 pm!
URL:https://chateaudulac.ca/event/industry-night-22/
CATEGORIES:Event,Featured
ATTACH;FMTTYPE=image/jpeg:https://chateaudulac.ca/wp-content/uploads/2023/08/CDL_FB_post_industrynight2-2.jpg
END:VEVENT
BEGIN:VEVENT
DTSTART;TZID=America/Toronto:20230813T150000
DTEND;TZID=America/Toronto:20230813T170000
DTSTAMP:20260424T202521
CREATED:20230726T160855Z
LAST-MODIFIED:20230728T172917Z
UID:4456-1691938800-1691946000@chateaudulac.ca
SUMMARY:Chris Birkett
DESCRIPTION:Experience the electrifying talent of Chris Birkett at Château du Lac! 🎸  \nDon’t miss this award-winning musician and producer on Saturday\, August 13th. \nSoyez de la partie le 13 août! 🍻
URL:https://chateaudulac.ca/event/chris-birkett-2/
CATEGORIES:Event,Featured,Live Music
ATTACH;FMTTYPE=image/jpeg:https://chateaudulac.ca/wp-content/uploads/2023/07/CDL_FB_post_E_chrisbirkett_2.jpg
END:VEVENT
BEGIN:VEVENT
DTSTART;TZID=America/Toronto:20230812T210000
DTEND;TZID=America/Toronto:20230812T230000
DTSTAMP:20260424T202521
CREATED:20230705T144930Z
LAST-MODIFIED:20230728T172537Z
UID:4433-1691874000-1691881200@chateaudulac.ca
SUMMARY:Karma
DESCRIPTION:What’s your mood? Rock? Blues? What about both? Because Karma is back at the Chat’ with some great classics!
URL:https://chateaudulac.ca/event/karma-2/
CATEGORIES:Event,Featured,Live Music
ATTACH;FMTTYPE=image/jpeg:https://chateaudulac.ca/wp-content/uploads/2023/07/CDL_FB_post_E_karma.jpg
END:VEVENT
BEGIN:VEVENT
DTSTART;TZID=America/Toronto:20230811T220000
DTEND;TZID=America/Toronto:20230812T220000
DTSTAMP:20260424T202521
CREATED:20230804T163525Z
LAST-MODIFIED:20230804T163526Z
UID:4499-1691791200-1691877600@chateaudulac.ca
SUMMARY:Ladies Night
DESCRIPTION:💃 Ladies we wanna hear your ROAR! Cuz tonight is YOUR night! \n\nFrom 10 pm to midnight\n$5 speedrail drinks\nDJ Konga
URL:https://chateaudulac.ca/event/ladies-night-21/
CATEGORIES:Event,Featured
ATTACH;FMTTYPE=image/jpeg:https://chateaudulac.ca/wp-content/uploads/2023/08/CDL_FB_post_ladiesnight1-2-1.jpg
END:VEVENT
BEGIN:VEVENT
DTSTART;TZID=America/Toronto:20230811T200000
DTEND;TZID=America/Toronto:20230811T233000
DTSTAMP:20260424T202521
CREATED:20230804T163333Z
LAST-MODIFIED:20230804T163334Z
UID:4496-1691784000-1691796600@chateaudulac.ca
SUMMARY:Beer pong competition
DESCRIPTION:Who’s the best beer pong player in Hudson? 🍻🏓  \nFind out by joining us on August 11th for our beer pong event starting at 8:00 PM! 🍻🏆  \nGrab a partner and sign up for just $15 per team\, which includes a pitcher of beer to kick off the friendly competition! 🍻 \nC’est l’heure du jeu! Es-tu prêt? 🏓🍻
URL:https://chateaudulac.ca/event/beer-pong-competition/
CATEGORIES:Event,Featured
ATTACH;FMTTYPE=image/jpeg:https://chateaudulac.ca/wp-content/uploads/2023/08/CDL_FB_post_E_beerpong-1.jpg
END:VEVENT
BEGIN:VEVENT
DTSTART;TZID=America/Toronto:20230806T210000
DTEND;TZID=America/Toronto:20230807T210000
DTSTAMP:20260424T202521
CREATED:20230804T163014Z
LAST-MODIFIED:20230804T163015Z
UID:4492-1691355600-1691442000@chateaudulac.ca
SUMMARY:Industry Night
DESCRIPTION:You teach? You serve and protect? You take care of our families? You work in the industry? 🤘 Let us celebrate you for everything you do daily! \n🎉 Chaque dimanche\, c’est Industry Night au Château du Lac! Viens en profiter ce soir! Enjoy $5 speedrail drinks from 9 pm!
URL:https://chateaudulac.ca/event/industry-night-21/
CATEGORIES:Event,Featured
ATTACH;FMTTYPE=image/jpeg:https://chateaudulac.ca/wp-content/uploads/2023/08/CDL_FB_post_industrynight-1.jpg
END:VEVENT
BEGIN:VEVENT
DTSTART;TZID=America/Toronto:20230805T210000
DTEND;TZID=America/Toronto:20230805T230000
DTSTAMP:20260424T202521
CREATED:20230705T144342Z
LAST-MODIFIED:20230728T172648Z
UID:4430-1691269200-1691276400@chateaudulac.ca
SUMMARY:Sanitaerium
DESCRIPTION:Get ready to rock out with Sanitaerium at Château du Lac! 🤘  \nJoin us on August 5th at 9:00 pm for an electrifying performance. 🎤🎸  \nFaisons de ce samedi une soirée inoubliable avec de la bonne musique en bonne compagnie. 🤩🎶  \nSee you there!
URL:https://chateaudulac.ca/event/samsura/
CATEGORIES:Event,Featured,Live Music
ATTACH;FMTTYPE=image/jpeg:https://chateaudulac.ca/wp-content/uploads/2023/07/CDL_FB_post_E_sanitaerium.jpg
END:VEVENT
BEGIN:VEVENT
DTSTART;TZID=America/Toronto:20230804T220000
DTEND;TZID=America/Toronto:20230805T220000
DTSTAMP:20260424T202521
CREATED:20230804T162410Z
LAST-MODIFIED:20230804T162604Z
UID:4487-1691186400-1691272800@chateaudulac.ca
SUMMARY:Ladies Night
DESCRIPTION:💃 Ladies we wanna hear your ROAR! Cuz tonight is YOUR night! \n\nFrom 10 pm to midnight\n$5 speedrail drinks\nDJ Konga
URL:https://chateaudulac.ca/event/ladies-night-20/
CATEGORIES:Event,Featured
ATTACH;FMTTYPE=image/jpeg:https://chateaudulac.ca/wp-content/uploads/2023/08/CDL_FB_post_ladiesnight2-1.jpg
END:VEVENT
BEGIN:VEVENT
DTSTART;TZID=America/Toronto:20230730T210000
DTEND;TZID=America/Toronto:20230730T210000
DTSTAMP:20260424T202521
CREATED:20230619T143036Z
LAST-MODIFIED:20230619T143126Z
UID:4411-1690750800-1690750800@chateaudulac.ca
SUMMARY:Industry Night
DESCRIPTION:You teach? You serve and protect? You take care of our families? You work in the industry? 🤘 Let us celebrate you for everything you do daily! \n🎉 Chaque dimanche\, c’est Industry Night au Château du Lac! Viens en profiter ce soir! Enjoy $5 speedrail drinks from 9 pm!
URL:https://chateaudulac.ca/event/industry-night-20/
CATEGORIES:Event,Featured
END:VEVENT
BEGIN:VEVENT
DTSTART;TZID=America/Toronto:20230730T140000
DTEND;TZID=America/Toronto:20230730T140000
DTSTAMP:20260424T202521
CREATED:20230620T194831Z
LAST-MODIFIED:20230726T143934Z
UID:4420-1690725600-1690725600@chateaudulac.ca
SUMMARY:The Guilbros
DESCRIPTION:In their own words\, the Guilbros are brothers keeping the family tradition alive\, and boy\, do they succeed! Viens enjoy de belles mélodies country au Château du Lac!
URL:https://chateaudulac.ca/event/the-guilbros/
CATEGORIES:Event,Featured,Live Music
ATTACH;FMTTYPE=image/jpeg:https://chateaudulac.ca/wp-content/uploads/2023/06/CDL_FB_post_CMS_guilbros.jpg
END:VEVENT
BEGIN:VEVENT
DTSTART;TZID=America/Toronto:20230729T213000
DTEND;TZID=America/Toronto:20230729T233000
DTSTAMP:20260424T202521
CREATED:20230519T150317Z
LAST-MODIFIED:20230726T155544Z
UID:4358-1690666200-1690673400@chateaudulac.ca
SUMMARY:David Lines and the Louisiana Night Train
DESCRIPTION:Get ready to have your soul drenched in the sizzling sounds of New Orleans blues! Join us Saturday July 29th\, as we transport you straight to the heart of the Big Easy. \nGET A FREE DRINK WITH YOUR TICKET PURCHASE! 🍺🎟
URL:https://chateaudulac.ca/event/david-line-and-the-louisiana-night-train/
CATEGORIES:Event,Featured,Live Music
ATTACH;FMTTYPE=image/jpeg:https://chateaudulac.ca/wp-content/uploads/2023/05/Facetune_25-07-2023-13-52-27.jpg
END:VEVENT
BEGIN:VEVENT
DTSTART;TZID=America/Toronto:20230728T220000
DTEND;TZID=America/Toronto:20230728T220000
DTSTAMP:20260424T202521
CREATED:20230619T142310Z
LAST-MODIFIED:20230804T162413Z
UID:4402-1690581600-1690581600@chateaudulac.ca
SUMMARY:Ladies Night
DESCRIPTION:💃 Ladies we wanna hear your ROAR! Cuz tonight is YOUR night! \n\nFrom 10 pm to midnight\n$5 speedrail drinks\nDJ Konga
URL:https://chateaudulac.ca/event/ladies-night-19/
CATEGORIES:Event,Featured
ATTACH;FMTTYPE=image/jpeg:https://chateaudulac.ca/wp-content/uploads/2023/08/CDL_FB_post_ladiesnight1-2.jpg
END:VEVENT
BEGIN:VEVENT
DTSTART;TZID=America/Toronto:20230727T180000
DTEND;TZID=America/Toronto:20230727T200000
DTSTAMP:20260424T202521
CREATED:20230523T145504Z
LAST-MODIFIED:20230726T143201Z
UID:4381-1690480800-1690488000@chateaudulac.ca
SUMMARY:Jeff Waters
DESCRIPTION:Get ready for a fantastic night as the talented Jeff Waters returns to Château du Lac! 🎸🍻  \nDemain soir\, le 27 juillet\, rejoignez-nous à partir de 18h00 pour une soirée remplie de mélodies et de délicieuses boissons.  \nDon’t miss this unforgettable performance! 🎶🥂
URL:https://chateaudulac.ca/event/eric-calder-6/
CATEGORIES:Event,Featured,Live Music
ATTACH;FMTTYPE=image/jpeg:https://chateaudulac.ca/wp-content/uploads/2023/05/IMG_1280.jpg
END:VEVENT
BEGIN:VEVENT
DTSTART;TZID=America/Toronto:20230723T210000
DTEND;TZID=America/Toronto:20230723T210000
DTSTAMP:20260424T202521
CREATED:20230619T141113Z
LAST-MODIFIED:20230619T143229Z
UID:4394-1690146000-1690146000@chateaudulac.ca
SUMMARY:Industry Night
DESCRIPTION:Chaque dimanche\, on te lève notre verre pour tous tes efforts quotidiens! 💪 You work in the industry? We’ve got specials for you! Enjoy $5 speedrail drinks from 9 pm! Invite your colleagues!
URL:https://chateaudulac.ca/event/industry-night-19/
CATEGORIES:Event,Featured
END:VEVENT
BEGIN:VEVENT
DTSTART;TZID=America/Toronto:20230722T210000
DTEND;TZID=America/Toronto:20230722T233000
DTSTAMP:20260424T202521
CREATED:20230620T191806Z
LAST-MODIFIED:20230719T132517Z
UID:4417-1690059600-1690068600@chateaudulac.ca
SUMMARY:Old Soul
DESCRIPTION:Do you love rock ‘n roll? Has it been a long time since you did the stroll? Si vous avez une vieille âme\, ça vous intéressera à coup sûr! \nYou will love the spectacular performance of Old Soul! \n  \nGET A FREE DRINK WITH YOUR TICKET PURCHASE! 🍺🎟
URL:https://chateaudulac.ca/event/old-soul/
CATEGORIES:Event,Featured,Live Music
END:VEVENT
BEGIN:VEVENT
DTSTART;TZID=America/Toronto:20230721T220000
DTEND;TZID=America/Toronto:20230721T220000
DTSTAMP:20260424T202521
CREATED:20230619T141909Z
LAST-MODIFIED:20230619T141918Z
UID:4398-1689976800-1689976800@chateaudulac.ca
SUMMARY:Ladies Night
DESCRIPTION:Who run the world? Who run the world? Who run the world? 💃 Girls\, you run this mutha! Show them at Chat’s Ladies Night\, chaque vendredi\, dès 10 pm! \n🍹 Enjoy our $5 speedrail drinks and dance all night!
URL:https://chateaudulac.ca/event/ladies-night-17/
CATEGORIES:Event,Featured
END:VEVENT
END:VCALENDAR