BEGIN:VCALENDAR
VERSION:2.0
PRODID:-//Chateau du Lac - ECPv6.15.17//NONSGML v1.0//EN
CALSCALE:GREGORIAN
METHOD:PUBLISH
X-WR-CALNAME:Chateau du Lac
X-ORIGINAL-URL:https://chateaudulac.ca
X-WR-CALDESC:Events for Chateau du Lac
REFRESH-INTERVAL;VALUE=DURATION:PT1H
X-Robots-Tag:noindex
X-PUBLISHED-TTL:PT1H
BEGIN:VTIMEZONE
TZID:America/Toronto
BEGIN:DAYLIGHT
TZOFFSETFROM:-0500
TZOFFSETTO:-0400
TZNAME:EDT
DTSTART:20230312T070000
END:DAYLIGHT
BEGIN:STANDARD
TZOFFSETFROM:-0400
TZOFFSETTO:-0500
TZNAME:EST
DTSTART:20231105T060000
END:STANDARD
BEGIN:DAYLIGHT
TZOFFSETFROM:-0500
TZOFFSETTO:-0400
TZNAME:EDT
DTSTART:20240310T070000
END:DAYLIGHT
BEGIN:STANDARD
TZOFFSETFROM:-0400
TZOFFSETTO:-0500
TZNAME:EST
DTSTART:20241103T060000
END:STANDARD
BEGIN:DAYLIGHT
TZOFFSETFROM:-0500
TZOFFSETTO:-0400
TZNAME:EDT
DTSTART:20250309T070000
END:DAYLIGHT
BEGIN:STANDARD
TZOFFSETFROM:-0400
TZOFFSETTO:-0500
TZNAME:EST
DTSTART:20251102T060000
END:STANDARD
BEGIN:DAYLIGHT
TZOFFSETFROM:-0500
TZOFFSETTO:-0400
TZNAME:EDT
DTSTART:20260308T070000
END:DAYLIGHT
BEGIN:STANDARD
TZOFFSETFROM:-0400
TZOFFSETTO:-0500
TZNAME:EST
DTSTART:20261101T060000
END:STANDARD
END:VTIMEZONE
BEGIN:VEVENT
DTSTART;TZID=America/Toronto:20251029T190000
DTEND;TZID=America/Toronto:20251029T220000
DTSTAMP:20260423T184327
CREATED:20251023T150611Z
LAST-MODIFIED:20251023T153934Z
UID:5372-1761764400-1761775200@chateaudulac.ca
SUMMARY:Trivia Night
DESCRIPTION:Get those brain cells working! Hudson Bar Trivia Series’ Trivia Night returns to The Chat on Wednesday\, October 29th\, from 7 PM to 10 PM! 🧠 Are you ready for this multi-generational knowledge showdown? 📚🏆Grab your friends\, enjoy some great drinks\, and compete for bragging rights! 😎Come to The Chat and prove you’re the smartest in Hudson!📍 460 Rue Main\, Hudson
URL:https://chateaudulac.ca/event/trivia-night-oct29/
CATEGORIES:Event,Featured,Trivia
ATTACH;FMTTYPE=image/jpeg:https://chateaudulac.ca/wp-content/uploads/2025/10/CDL_FB_post_trivianight2-1-1.jpg
END:VEVENT
BEGIN:VEVENT
DTSTART;TZID=America/Toronto:20251025T200000
DTEND;TZID=America/Toronto:20251025T220000
DTSTAMP:20260423T184327
CREATED:20251023T145800Z
LAST-MODIFIED:20251023T153922Z
UID:5362-1761422400-1761429600@chateaudulac.ca
SUMMARY:Better Half Band LIVE at The Chat
DESCRIPTION:The Better Half Band is back at Château du Lac on Saturday\, October 25th! 🎸 \nJoin us for a night of incredible live music and high-energy tunes. The party starts at 8 PM\, and we can’t wait to see you all on the dance floor. 💃 \nCome hang out\, grab a drink\, and let’s make it a night to remember! 🍻 \nFacebook event:https://www.facebook.com/events/1933873710698997
URL:https://chateaudulac.ca/event/better-half-oct25/
CATEGORIES:Event,Featured,Live Music
ATTACH;FMTTYPE=image/jpeg:https://chateaudulac.ca/wp-content/uploads/2025/10/CDL_FB_post_thebetterhalf-1-2.jpg
END:VEVENT
BEGIN:VEVENT
DTSTART;TZID=America/Toronto:20251025T130000
DTEND;TZID=America/Toronto:20251025T190000
DTSTAMP:20260423T184327
CREATED:20251023T152612Z
LAST-MODIFIED:20251023T153910Z
UID:5395-1761397200-1761418800@chateaudulac.ca
SUMMARY:Pumpkin Carving Contest
DESCRIPTION:Get ready to unleash your inner artist because we’re hosting a pumpkin carving contest this Saturday\, October 25th! 🎃🔸 Date: Saturday\, October 25th🔸 Time: 1:00 PM – 7:00 PM🔸 The Challenge: Bring your own pumpkin (BYOP!) and any tools/additives you need. We’ll have designated outdoor carving areas for you to create your masterpiece!🔸 Voting: Opens at 4:00 PM!🏆 The prizes:We’re picking 6 WINNERS!Not only will the top 6 pumpkins be featured as Halloween decorations inside The Chat\, but each winner will also receive a round of drinks on the house at the bar! 🍻Join us for an afternoon of friendly competition and fall fun! 🍁📍 460 Main Street\, Hudson
URL:https://chateaudulac.ca/event/pumpkin-carving-contest/
CATEGORIES:Event,Featured,Party
ATTACH;FMTTYPE=image/jpeg:https://chateaudulac.ca/wp-content/uploads/2025/10/CDL_FB_post_pumpkincarving-1.jpg
END:VEVENT
BEGIN:VEVENT
DTSTART;TZID=America/Toronto:20241231T220000
DTEND;TZID=America/Toronto:20241231T220000
DTSTAMP:20260423T184327
CREATED:20251113T181140Z
LAST-MODIFIED:20251015T113604Z
UID:5084-1735682400-1735682400@chateaudulac.ca
SUMMARY:New Year's Eve Party
DESCRIPTION:What better way to ring in 2025 than with friends\, drinks\, and unforgettable vibes? 🍾✨\n\nJoin us for our New Year’s Eve Party on Tuesday\, December 31st\, for a night to remember! 🎊\n\nLet’s toast to new beginnings and make the first memories of 2025 together. 🥂\n\nSee you at The Chat!\n📍 460 Rue Main\, Hudson
URL:https://chateaudulac.ca/event/new-years-eve-party-2/
CATEGORIES:Event,Featured,Featured DJ,Party
ATTACH;FMTTYPE=image/jpeg:https://chateaudulac.ca/wp-content/uploads/2024/12/CDL_FB_post_E_newyears.jpg
END:VEVENT
BEGIN:VEVENT
DTSTART;TZID=America/Toronto:20241228T200000
DTEND;TZID=America/Toronto:20241228T200000
DTSTAMP:20260423T184327
CREATED:20241213T180915Z
LAST-MODIFIED:20251010T174650Z
UID:5081-1735416000-1735416000@chateaudulac.ca
SUMMARY:Karma
DESCRIPTION:Join us on Saturday\, December 28th\, at 8 PM as we welcome Karma for a night of classic rock\, blues\, and amazing vibes! 🍻🎸\n\nGet ready for an unforgettable evening of live music\, great company\, and plenty of good times. 🎤🔥\n\nSee you there! 🤘\n📍 460 Rue Main\, Hudson
URL:https://chateaudulac.ca/event/karma-4/
CATEGORIES:Event,Featured,Live Music
ATTACH;FMTTYPE=image/jpeg:https://chateaudulac.ca/wp-content/uploads/2024/12/CDL_FB_post_E_karma-3.jpg
END:VEVENT
BEGIN:VEVENT
DTSTART;TZID=America/Toronto:20241227T220000
DTEND;TZID=America/Toronto:20241227T220000
DTSTAMP:20260423T184327
CREATED:20241213T175542Z
LAST-MODIFIED:20241213T175542Z
UID:5066-1735336800-1735336800@chateaudulac.ca
SUMMARY:Ladies Night
DESCRIPTION:Kick off your December weekends with a festive twist with our special Ladies Night every Friday! Join us for a magical evening filled with $5 speedrail drinks and plenty of holiday cheer! 🎄🍹 \nGather your squad\, don your favourite holiday outfits\, and get ready to dance the night away! 💃 \nDon’t miss out on the holiday fun at Chat! See you there! 🍸🎁 \nhttps://www.facebook.com/events/1301913887487691/1301913917487688/
URL:https://chateaudulac.ca/event/ladies-night-58/
CATEGORIES:Event,Party
ATTACH;FMTTYPE=image/jpeg:https://chateaudulac.ca/wp-content/uploads/2024/12/CDL_FB_post_ladiesnight-16.jpg
END:VEVENT
BEGIN:VEVENT
DTSTART;TZID=America/Toronto:20241225T220000
DTEND;TZID=America/Toronto:20241225T220000
DTSTAMP:20260423T184327
CREATED:20241213T180729Z
LAST-MODIFIED:20241213T180729Z
UID:5077-1735164000-1735164000@chateaudulac.ca
SUMMARY:Losers Night
DESCRIPTION:Don’t have any plans for Christmas? Come celebrate with us at Château du Lac! 🎄🍻 Join us for Losers Night on Wednesday\, December 25th\, at 10 PM! 🎉 \nDespite the name\, it’s all about laughs\, great drinks\, and celebrating together. Who knows what surprises the night will bring? 🎁✨ \nBring your friends\, bring your holiday spirit\, and let’s make it a Christmas night to remember! 🍻 \n📍460 Main Road\, Hudson
URL:https://chateaudulac.ca/event/losers-night-2/
CATEGORIES:Event,Featured,Party
ATTACH;FMTTYPE=image/jpeg:https://chateaudulac.ca/wp-content/uploads/2024/12/CDL_FB_post_E_losersnight.jpg
END:VEVENT
BEGIN:VEVENT
DTSTART;TZID=America/Toronto:20241220T220000
DTEND;TZID=America/Toronto:20241220T220000
DTSTAMP:20260423T184327
CREATED:20241213T175425Z
LAST-MODIFIED:20241213T175425Z
UID:5064-1734732000-1734732000@chateaudulac.ca
SUMMARY:Ladies Night
DESCRIPTION:Kick off your December weekends with a festive twist with our special Ladies Night every Friday! Join us for a magical evening filled with $5 speedrail drinks and plenty of holiday cheer! 🎄🍹 \nGather your squad\, don your favourite holiday outfits\, and get ready to dance the night away! 💃 \nDon’t miss out on the holiday fun at Chat! See you there! 🍸🎁 \nhttps://www.facebook.com/events/1301913887487691/1301913917487688/
URL:https://chateaudulac.ca/event/ladies-night-57/
CATEGORIES:Event,Party
ATTACH;FMTTYPE=image/jpeg:https://chateaudulac.ca/wp-content/uploads/2024/12/CDL_FB_post_ladiesnight-16.jpg
END:VEVENT
BEGIN:VEVENT
DTSTART;TZID=America/Toronto:20241217T190000
DTEND;TZID=America/Toronto:20241217T190000
DTSTAMP:20260423T184327
CREATED:20241213T180353Z
LAST-MODIFIED:20241213T181931Z
UID:5074-1734462000-1734462000@chateaudulac.ca
SUMMARY:Line Dancing Holiday Special
DESCRIPTION:The holidays are here\, and it’s time for a special edition of line dancing! 🎉🎄 \nJoin us for a festive evening of fun with Madeleine & Dance 4 All — your last chance to dance with them at The Chat before the year ends! 💃 \nFor just $10\, enjoy a night of festive tunes\, great vibes\, and plenty of dancing! 🎶🕺 \nFacebook event:\nhttps://www.facebook.com/events/1759799298087984/
URL:https://chateaudulac.ca/event/line-dancing-holiday-special/
CATEGORIES:Event,Featured,Live Music,Party
ATTACH;FMTTYPE=image/jpeg:https://chateaudulac.ca/wp-content/uploads/2024/12/CDL_FB_post_E_linedancingH.jpg
END:VEVENT
BEGIN:VEVENT
DTSTART;TZID=America/Toronto:20241214T074500
DTEND;TZID=America/Toronto:20241214T194500
DTSTAMP:20260423T184327
CREATED:20241213T180123Z
LAST-MODIFIED:20241213T182019Z
UID:5071-1734162300-1734205500@chateaudulac.ca
SUMMARY:Mighty House Band
DESCRIPTION:Get ready to groove! 🎶 We’re thrilled to announce that the Mighty House Band\, accompanied by the Mumbo Gumbo Horns\, will be performing at Château du Lac on Saturday\, December 14th\, at 7:45 PM! 🌟 \nNothing compares to the Motown vibe\, and we can’t wait to fill the night with the soulful sounds that make you want to dance! 🕺💃 \nJoin us for an unforgettable evening of music\, fun\, and good vibes. We’ll be waiting for you at The Chat! 🎤🍹 \nFacebook event:\nhttps://www.facebook.com/events/4022293731332578/
URL:https://chateaudulac.ca/event/mighty-house-band/
CATEGORIES:Event,Featured,Live Music
ATTACH;FMTTYPE=image/jpeg:https://chateaudulac.ca/wp-content/uploads/2024/12/CDL_FB_post_E_motown.jpg
END:VEVENT
BEGIN:VEVENT
DTSTART;TZID=America/Toronto:20241213T220000
DTEND;TZID=America/Toronto:20241213T220000
DTSTAMP:20260423T184327
CREATED:20241213T175246Z
LAST-MODIFIED:20241213T175246Z
UID:5061-1734127200-1734127200@chateaudulac.ca
SUMMARY:Ladies Night
DESCRIPTION:Kick off your December weekends with a festive twist with our special Ladies Night every Friday! Join us for a magical evening filled with $5 speedrail drinks and plenty of holiday cheer! 🎄🍹 \nGather your squad\, don your favourite holiday outfits\, and get ready to dance the night away! 💃 \nDon’t miss out on the holiday fun at Chat! See you there! 🍸🎁 \nhttps://www.facebook.com/events/1301913887487691/1301913917487688/
URL:https://chateaudulac.ca/event/ladies-night-56/
CATEGORIES:Event,Party
ATTACH;FMTTYPE=image/jpeg:https://chateaudulac.ca/wp-content/uploads/2024/12/CDL_FB_post_ladiesnight-16.jpg
END:VEVENT
BEGIN:VEVENT
DTSTART;TZID=America/Toronto:20241213T080000
DTEND;TZID=America/Toronto:20241213T170000
DTSTAMP:20260423T184327
CREATED:20241213T175800Z
LAST-MODIFIED:20241213T175800Z
UID:5068-1734076800-1734109200@chateaudulac.ca
SUMMARY:Winter Beach Party
DESCRIPTION:A winter Beach Party? Only in Quebec! 😂 Better yet\, only at the Chat! 😉 \nIt might be chilly outside\, but we’re cranking up the heat and bringing the beach vibes on Friday\, December 13th\, at 10 PM. 🔥 \nGrab your best tropical gear and let’s turn this winter night into a hot beach bash! 🌴 \nWe’ll see you there!\n📍 460 Rue Main\, Hudson
URL:https://chateaudulac.ca/event/winter-beach-party/
CATEGORIES:Event,Featured DJ,Party
ATTACH;FMTTYPE=image/jpeg:https://chateaudulac.ca/wp-content/uploads/2024/12/CDL_FB_post_winterbeach.jpg
END:VEVENT
BEGIN:VEVENT
DTSTART;TZID=America/Toronto:20241130T190000
DTEND;TZID=America/Toronto:20241130T190000
DTSTAMP:20260423T184327
CREATED:20241021T174630Z
LAST-MODIFIED:20241031T182127Z
UID:5023-1732993200-1732993200@chateaudulac.ca
SUMMARY:Hockey Night
DESCRIPTION:The action continues all month long! 🏒 Grab a drink\, bring your friends\, and cheer on your favourite team with us! 🍻🏆 \nHere’s the November schedule: \n📅 Tue. Nov. 5th\n📅 Thu. Nov. 7th\n📅 Sat. Nov. 9th\n📅 Mon. Nov. 11th\n📅 Thu. Nov. 14th\n📅 Sat. Nov. 16th\n📅 Mon. Nov. 18th\n📅 Thu. Nov. 21st\n📅 Tue. Nov. 26th\n📅 Wed. Nov. 27th\n📅 Sat. Nov. 30th \nDon’t miss a moment of the excitement! 🏒🔥 \n📍460 Rue Main\, Hudson
URL:https://chateaudulac.ca/event/hockey-night-10/
CATEGORIES:Event,sport
ATTACH;FMTTYPE=image/jpeg:https://chateaudulac.ca/wp-content/uploads/2024/10/CDL_FB_post_hockeynight_1-1.jpg
END:VEVENT
BEGIN:VEVENT
DTSTART;TZID=America/Toronto:20241129T220000
DTEND;TZID=America/Toronto:20241129T220000
DTSTAMP:20260423T184327
CREATED:20241021T172708Z
LAST-MODIFIED:20241031T180812Z
UID:5000-1732917600-1732917600@chateaudulac.ca
SUMMARY:Ladies Night
DESCRIPTION:As the weather cools down\, warm up with us at The Chat for a cozy evening of fun! 🌙 \nEvery Friday\, starting at 10 PM\, enjoy $5 speedrail drinks all night long and keep the good times rolling. 🍹 \nGather your friends and let’s make Friday nights unforgettable! ✨ \n📍460 Rue Main\, Hudson
URL:https://chateaudulac.ca/event/ladies-night-54/
CATEGORIES:Event,Party
ATTACH;FMTTYPE=image/jpeg:https://chateaudulac.ca/wp-content/uploads/2024/10/CDL_FB_post_ladiesnight-14.jpg
END:VEVENT
BEGIN:VEVENT
DTSTART;TZID=America/Toronto:20241127T190000
DTEND;TZID=America/Toronto:20241127T190000
DTSTAMP:20260423T184327
CREATED:20241021T174535Z
LAST-MODIFIED:20241031T180738Z
UID:5021-1732734000-1732734000@chateaudulac.ca
SUMMARY:Hockey Night
DESCRIPTION:The action continues all month long! 🏒 Grab a drink\, bring your friends\, and cheer on your favourite team with us! 🍻🏆 \nHere’s the November schedule: \n📅 Tue. Nov. 5th\n📅 Thu. Nov. 7th\n📅 Sat. Nov. 9th\n📅 Mon. Nov. 11th\n📅 Thu. Nov. 14th\n📅 Sat. Nov. 16th\n📅 Mon. Nov. 18th\n📅 Thu. Nov. 21st\n📅 Tue. Nov. 26th\n📅 Wed. Nov. 27th\n📅 Sat. Nov. 30th \nDon’t miss a moment of the excitement! 🏒🔥 \n📍460 Rue Main\, Hudson
URL:https://chateaudulac.ca/event/ladies-night-55/
CATEGORIES:Event,sport
ATTACH;FMTTYPE=image/jpeg:https://chateaudulac.ca/wp-content/uploads/2024/10/CDL_FB_post_hockeynight_1.jpg
END:VEVENT
BEGIN:VEVENT
DTSTART;TZID=America/Toronto:20241127T190000
DTEND;TZID=America/Toronto:20241127T190000
DTSTAMP:20260423T184327
CREATED:20241015T160520Z
LAST-MODIFIED:20241108T190506Z
UID:4980-1732734000-1732734000@chateaudulac.ca
SUMMARY:Trivia Night
DESCRIPTION:It’s time for another round of Hudson Bar Trivia Series at The Chat on Wednesday\, November 27th! Think you have what it takes to outsmart the competition? 🤓💪 \nBring your squad\, test your trivia skills\, and let’s see who will come out on top. First perfect round = shots for your team! 🥃 \nDon’t miss out on a night of fun\, laughs\, and maybe even a little glory! 🏆 \nGet your tickets here:\nhttps://attf.ca/ols/categories/chateau-quiz
URL:https://chateaudulac.ca/event/trivia-night-8/
CATEGORIES:Event,Featured,Trivia
ATTACH;FMTTYPE=image/jpeg:https://chateaudulac.ca/wp-content/uploads/2024/10/CDL_FB_post_trivia_27th.jpg
END:VEVENT
BEGIN:VEVENT
DTSTART;TZID=America/Toronto:20241126T200000
DTEND;TZID=America/Toronto:20241126T200000
DTSTAMP:20260423T184327
CREATED:20241015T160203Z
LAST-MODIFIED:20241108T185831Z
UID:4976-1732651200-1732651200@chateaudulac.ca
SUMMARY:Line Dancing
DESCRIPTION:Dust off those boots because Line Dancing is back every other Tuesday all November! 🤠 \nFor only $10\, join Madeleine (@madeleinexmae) & Dance 4 All (@dance4allmtl) as they bring the fun on November 12th & November 26th to teach you some new moves! 💃🕺 \nMosey on down to The Chat for a night of dancing\, laughs\, and good times! \n📍460 Rue Main\, Hudson \nFacebook event:\nhttps://www.facebook.com/events/572389652180347/572389658847013/
URL:https://chateaudulac.ca/event/line-dancing-6/
CATEGORIES:Event,Featured,Party
ATTACH;FMTTYPE=image/jpeg:https://chateaudulac.ca/wp-content/uploads/2024/10/CDL_FB_post_E_linedancing-2-1.jpg
END:VEVENT
BEGIN:VEVENT
DTSTART;TZID=America/Toronto:20241126T190000
DTEND;TZID=America/Toronto:20241126T190000
DTSTAMP:20260423T184327
CREATED:20241021T174416Z
LAST-MODIFIED:20241031T182105Z
UID:5019-1732647600-1732647600@chateaudulac.ca
SUMMARY:Hockey Night
DESCRIPTION:The action continues all month long! 🏒 Grab a drink\, bring your friends\, and cheer on your favourite team with us! 🍻🏆 \nHere’s the November schedule: \n📅 Tue. Nov. 5th\n📅 Thu. Nov. 7th\n📅 Sat. Nov. 9th\n📅 Mon. Nov. 11th\n📅 Thu. Nov. 14th\n📅 Sat. Nov. 16th\n📅 Mon. Nov. 18th\n📅 Thu. Nov. 21st\n📅 Tue. Nov. 26th\n📅 Wed. Nov. 27th\n📅 Sat. Nov. 30th \nDon’t miss a moment of the excitement! 🏒🔥 \n📍460 Rue Main\, Hudson
URL:https://chateaudulac.ca/event/hockey-night-9/
CATEGORIES:Event,sport
ATTACH;FMTTYPE=image/jpeg:https://chateaudulac.ca/wp-content/uploads/2024/10/CDL_FB_post_hockeynight_1-1.jpg
END:VEVENT
BEGIN:VEVENT
DTSTART;TZID=America/Toronto:20241123T200000
DTEND;TZID=America/Toronto:20241123T200000
DTSTAMP:20260423T184327
CREATED:20241015T161041Z
LAST-MODIFIED:20241108T185252Z
UID:4988-1732392000-1732392000@chateaudulac.ca
SUMMARY:Daylite Vampires
DESCRIPTION:Join us on Saturday\, November 23rd\, at 8PM\, as Daylite Vampires take the stage! With their electrifying blend of classic rock and punk\, they’re sure to get everyone singing and dancing the night away! 🎶 \nDon’t miss out on an epic night filled with great music and good vibes. Grab your friends and come enjoy the show! 🎸\n\n** Cover charge = $15 with a free drink included. ** \n📍 460 Rue Main\, Hudson \nFacebook event:\nhttps://www.facebook.com/events/2546005915600085/
URL:https://chateaudulac.ca/event/daylite-vampires-3/
CATEGORIES:Event,Featured,Live Music
ATTACH;FMTTYPE=image/jpeg:https://chateaudulac.ca/wp-content/uploads/2024/10/CDL_FB_post_E_daylitevampires-1.jpg
END:VEVENT
BEGIN:VEVENT
DTSTART;TZID=America/Toronto:20241122T220000
DTEND;TZID=America/Toronto:20241122T220000
DTSTAMP:20260423T184327
CREATED:20241021T172552Z
LAST-MODIFIED:20241031T180405Z
UID:4998-1732312800-1732312800@chateaudulac.ca
SUMMARY:Ladies Night
DESCRIPTION:As the weather cools down\, warm up with us at The Chat for a cozy evening of fun! 🌙 \nEvery Friday\, starting at 10 PM\, enjoy $5 speedrail drinks all night long and keep the good times rolling. 🍹 \nGather your friends and let’s make Friday nights unforgettable! ✨ \n📍460 Rue Main\, Hudson
URL:https://chateaudulac.ca/event/ladies-night-53/
CATEGORIES:Event,Party
ATTACH;FMTTYPE=image/jpeg:https://chateaudulac.ca/wp-content/uploads/2024/10/CDL_FB_post_ladiesnight-14.jpg
END:VEVENT
BEGIN:VEVENT
DTSTART;TZID=America/Toronto:20241121T203000
DTEND;TZID=America/Toronto:20241121T203000
DTSTAMP:20260423T184327
CREATED:20241015T160922Z
LAST-MODIFIED:20241108T185950Z
UID:4986-1732221000-1732221000@chateaudulac.ca
SUMMARY:Karaoke Night
DESCRIPTION:Is this the real life? Is this just fantasyyy? 🎶 It’s Karaoke Night at The Chat! 🎤 \nJoin us on Thursday\, November 21st at 8:30PM for a night where you can be the star! 🌟 \nIt’s going to be an unforgettable night filled with laughter\, great music\, and maybe a few unforgettable performances! 😎 \n📍460 Rue Main\, Hudson \nFacebook event:\nhttps://www.facebook.com/events/864160925700591
URL:https://chateaudulac.ca/event/karaoke-night-5/
CATEGORIES:Event,Featured,Party
ATTACH;FMTTYPE=image/jpeg:https://chateaudulac.ca/wp-content/uploads/2024/10/CDL_FB_post_karaoke-1.jpg
END:VEVENT
BEGIN:VEVENT
DTSTART;TZID=America/Toronto:20241121T190000
DTEND;TZID=America/Toronto:20241121T190000
DTSTAMP:20260423T184327
CREATED:20241021T174319Z
LAST-MODIFIED:20241031T182049Z
UID:5017-1732215600-1732215600@chateaudulac.ca
SUMMARY:Hockey Night
DESCRIPTION:The action continues all month long! 🏒 Grab a drink\, bring your friends\, and cheer on your favourite team with us! 🍻🏆 \nHere’s the November schedule: \n📅 Tue. Nov. 5th\n📅 Thu. Nov. 7th\n📅 Sat. Nov. 9th\n📅 Mon. Nov. 11th\n📅 Thu. Nov. 14th\n📅 Sat. Nov. 16th\n📅 Mon. Nov. 18th\n📅 Thu. Nov. 21st\n📅 Tue. Nov. 26th\n📅 Wed. Nov. 27th\n📅 Sat. Nov. 30th \nDon’t miss a moment of the excitement! 🏒🔥 \n📍460 Rue Main\, Hudson
URL:https://chateaudulac.ca/event/hockey-night-8/
CATEGORIES:Event,sport
ATTACH;FMTTYPE=image/jpeg:https://chateaudulac.ca/wp-content/uploads/2024/10/CDL_FB_post_hockeynight_1-1.jpg
END:VEVENT
BEGIN:VEVENT
DTSTART;TZID=America/Toronto:20241118T190000
DTEND;TZID=America/Toronto:20241118T190000
DTSTAMP:20260423T184327
CREATED:20241021T174157Z
LAST-MODIFIED:20241031T182037Z
UID:5015-1731956400-1731956400@chateaudulac.ca
SUMMARY:Hockey Night
DESCRIPTION:The action continues all month long! 🏒 Grab a drink\, bring your friends\, and cheer on your favourite team with us! 🍻🏆 \nHere’s the November schedule: \n📅 Tue. Nov. 5th\n📅 Thu. Nov. 7th\n📅 Sat. Nov. 9th\n📅 Mon. Nov. 11th\n📅 Thu. Nov. 14th\n📅 Sat. Nov. 16th\n📅 Mon. Nov. 18th\n📅 Thu. Nov. 21st\n📅 Tue. Nov. 26th\n📅 Wed. Nov. 27th\n📅 Sat. Nov. 30th \nDon’t miss a moment of the excitement! 🏒🔥 \n📍460 Rue Main\, Hudson
URL:https://chateaudulac.ca/event/hockey-night-7/
CATEGORIES:Event,sport
ATTACH;FMTTYPE=image/jpeg:https://chateaudulac.ca/wp-content/uploads/2024/10/CDL_FB_post_hockeynight_1-1.jpg
END:VEVENT
BEGIN:VEVENT
DTSTART;TZID=America/Toronto:20241116T190000
DTEND;TZID=America/Toronto:20241116T190000
DTSTAMP:20260423T184327
CREATED:20241021T174102Z
LAST-MODIFIED:20241031T182024Z
UID:5013-1731783600-1731783600@chateaudulac.ca
SUMMARY:Hockey Night
DESCRIPTION:The action continues all month long! 🏒 Grab a drink\, bring your friends\, and cheer on your favourite team with us! 🍻🏆 \nHere’s the November schedule: \n📅 Tue. Nov. 5th\n📅 Thu. Nov. 7th\n📅 Sat. Nov. 9th\n📅 Mon. Nov. 11th\n📅 Thu. Nov. 14th\n📅 Sat. Nov. 16th\n📅 Mon. Nov. 18th\n📅 Thu. Nov. 21st\n📅 Tue. Nov. 26th\n📅 Wed. Nov. 27th\n📅 Sat. Nov. 30th \nDon’t miss a moment of the excitement! 🏒🔥 \n📍460 Rue Main\, Hudson
URL:https://chateaudulac.ca/event/hockey-night-6/
CATEGORIES:Event,sport
ATTACH;FMTTYPE=image/jpeg:https://chateaudulac.ca/wp-content/uploads/2024/10/CDL_FB_post_hockeynight_1-1.jpg
END:VEVENT
BEGIN:VEVENT
DTSTART;TZID=America/Toronto:20241115T220000
DTEND;TZID=America/Toronto:20241115T220000
DTSTAMP:20260423T184327
CREATED:20241021T172428Z
LAST-MODIFIED:20241031T180329Z
UID:4995-1731708000-1731708000@chateaudulac.ca
SUMMARY:Ladies Night
DESCRIPTION:As the weather cools down\, warm up with us at The Chat for a cozy evening of fun! 🌙 \nEvery Friday\, starting at 10 PM\, enjoy $5 speedrail drinks all night long and keep the good times rolling. 🍹 \nGather your friends and let’s make Friday nights unforgettable! ✨ \n📍460 Rue Main\, Hudson
URL:https://chateaudulac.ca/event/ladies-night-52/
CATEGORIES:Event,Party
ATTACH;FMTTYPE=image/jpeg:https://chateaudulac.ca/wp-content/uploads/2024/10/CDL_FB_post_ladiesnight-14.jpg
END:VEVENT
BEGIN:VEVENT
DTSTART;TZID=America/Toronto:20241115T220000
DTEND;TZID=America/Toronto:20241115T220000
DTSTAMP:20260423T184327
CREATED:20241015T160812Z
LAST-MODIFIED:20241108T190109Z
UID:4984-1731708000-1731708000@chateaudulac.ca
SUMMARY:Country Night
DESCRIPTION:YEEHAW it’s Country Night! 🤠 Mark your calendars for Friday\, November 15th at 10PM. 📅 \nThink of it as The Good\, the Bad\, and the Ugly… but without the Ugly. 😉 \nCome on down for a wild time – a wild west time\, that is! 🐴 \n📍 460 Rue Main\, Hudson \nFacebook event:\nhttps://www.facebook.com/events/3646732548882470/
URL:https://chateaudulac.ca/event/country-night-7/
CATEGORIES:Event,Featured,Party
ATTACH;FMTTYPE=image/jpeg:https://chateaudulac.ca/wp-content/uploads/2024/10/CDL_FB_post_E_countrynight-11.jpg
END:VEVENT
BEGIN:VEVENT
DTSTART;TZID=America/Toronto:20241114T200000
DTEND;TZID=America/Toronto:20241114T200000
DTSTAMP:20260423T184327
CREATED:20241015T160709Z
LAST-MODIFIED:20241108T190214Z
UID:4982-1731614400-1731614400@chateaudulac.ca
SUMMARY:Jeff Waters
DESCRIPTION:We’re excited to welcome Jeff Waters as our musical guest on Thursday\, November 14th! 🎶 Get ready for a night full of good music and good vibes at The Chat. ✨🎸 \nMark your calendars and join us for an evening you won’t want to miss! 🎵 \nSee you there! 🍻 \n📍 460 Rue Main\, Hudson \nFacebook event:\nhttps://www.facebook.com/events/1087204176370866
URL:https://chateaudulac.ca/event/jeff-waters-6/
CATEGORIES:Event,Featured,Live Music
ATTACH;FMTTYPE=image/jpeg:https://chateaudulac.ca/wp-content/uploads/2024/10/CDL_FB_post_E_jeffwaters-4.jpg
END:VEVENT
BEGIN:VEVENT
DTSTART;TZID=America/Toronto:20241114T190000
DTEND;TZID=America/Toronto:20241114T190000
DTSTAMP:20260423T184327
CREATED:20241021T173640Z
LAST-MODIFIED:20241031T182008Z
UID:5010-1731610800-1731610800@chateaudulac.ca
SUMMARY:Hockey Night
DESCRIPTION:The action continues all month long! 🏒 Grab a drink\, bring your friends\, and cheer on your favourite team with us! 🍻🏆 \nHere’s the November schedule: \n📅 Tue. Nov. 5th\n📅 Thu. Nov. 7th\n📅 Sat. Nov. 9th\n📅 Mon. Nov. 11th\n📅 Thu. Nov. 14th\n📅 Sat. Nov. 16th\n📅 Mon. Nov. 18th\n📅 Thu. Nov. 21st\n📅 Tue. Nov. 26th\n📅 Wed. Nov. 27th\n📅 Sat. Nov. 30th \nDon’t miss a moment of the excitement! 🏒🔥 \n📍460 Rue Main\, Hudson
URL:https://chateaudulac.ca/event/hockey-night-5/
CATEGORIES:Event,sport
ATTACH;FMTTYPE=image/jpeg:https://chateaudulac.ca/wp-content/uploads/2024/10/CDL_FB_post_hockeynight_1-1.jpg
END:VEVENT
BEGIN:VEVENT
DTSTART;TZID=America/Toronto:20241113T190000
DTEND;TZID=America/Toronto:20241113T190000
DTSTAMP:20260423T184327
CREATED:20241015T160400Z
LAST-MODIFIED:20241108T190421Z
UID:4978-1731524400-1731524400@chateaudulac.ca
SUMMARY:Trivia Night
DESCRIPTION:Think you’re smart? Come prove it! 🧠 \nThe Hudson Bar Trivia Series is back at The Chat on Wednesday\, November 13th! \nBring your A-game\, test your knowledge\, and enjoy a night of friendly competition. Shots for the first perfect round and again for the winning team! 🍻 \n  \nTickets: \nhttps://attf.ca/ols/categories/chateau-quiz
URL:https://chateaudulac.ca/event/trivia-night-7/
CATEGORIES:Event,Featured,Trivia
ATTACH;FMTTYPE=image/jpeg:https://chateaudulac.ca/wp-content/uploads/2024/10/CDL_FB_post_trivia_13th-1.jpg
END:VEVENT
BEGIN:VEVENT
DTSTART;TZID=America/Toronto:20241112T200000
DTEND;TZID=America/Toronto:20241112T200000
DTSTAMP:20260423T184327
CREATED:20241015T160050Z
LAST-MODIFIED:20241108T185753Z
UID:4974-1731441600-1731441600@chateaudulac.ca
SUMMARY:Line Dancing
DESCRIPTION:Dust off those boots because Line Dancing is back every other Tuesday all November! 🤠 \nFor only $10\, join Madeleine (@madeleinexmae) & Dance 4 All (@dance4allmtl) as they bring the fun on November 12th & November 26th to teach you some new moves! 💃🕺 \nMosey on down to The Chat for a night of dancing\, laughs\, and good times! \n📍460 Rue Main\, Hudson \nFacebook event:\nhttps://www.facebook.com/events/572389652180347/
URL:https://chateaudulac.ca/event/line-dancing-5/
CATEGORIES:Event,Featured,Party
ATTACH;FMTTYPE=image/jpeg:https://chateaudulac.ca/wp-content/uploads/2024/10/CDL_FB_post_E_linedancing-2.jpg
END:VEVENT
END:VCALENDAR