BEGIN:VCALENDAR
VERSION:2.0
PRODID:-//Chateau du Lac - ECPv6.15.17//NONSGML v1.0//EN
CALSCALE:GREGORIAN
METHOD:PUBLISH
X-WR-CALNAME:Chateau du Lac
X-ORIGINAL-URL:https://chateaudulac.ca
X-WR-CALDESC:Events for Chateau du Lac
REFRESH-INTERVAL;VALUE=DURATION:PT1H
X-Robots-Tag:noindex
X-PUBLISHED-TTL:PT1H
BEGIN:VTIMEZONE
TZID:America/Toronto
BEGIN:DAYLIGHT
TZOFFSETFROM:-0500
TZOFFSETTO:-0400
TZNAME:EDT
DTSTART:20230312T070000
END:DAYLIGHT
BEGIN:STANDARD
TZOFFSETFROM:-0400
TZOFFSETTO:-0500
TZNAME:EST
DTSTART:20231105T060000
END:STANDARD
BEGIN:DAYLIGHT
TZOFFSETFROM:-0500
TZOFFSETTO:-0400
TZNAME:EDT
DTSTART:20240310T070000
END:DAYLIGHT
BEGIN:STANDARD
TZOFFSETFROM:-0400
TZOFFSETTO:-0500
TZNAME:EST
DTSTART:20241103T060000
END:STANDARD
BEGIN:DAYLIGHT
TZOFFSETFROM:-0500
TZOFFSETTO:-0400
TZNAME:EDT
DTSTART:20250309T070000
END:DAYLIGHT
BEGIN:STANDARD
TZOFFSETFROM:-0400
TZOFFSETTO:-0500
TZNAME:EST
DTSTART:20251102T060000
END:STANDARD
END:VTIMEZONE
BEGIN:VEVENT
DTSTART;TZID=America/Toronto:20240912T170000
DTEND;TZID=America/Toronto:20240912T170000
DTSTAMP:20260424T094007
CREATED:20240903T142542Z
LAST-MODIFIED:20240903T142542Z
UID:4911-1726160400-1726160400@chateaudulac.ca
SUMMARY:Eric Calder
DESCRIPTION:🎸 Join us for a night of captivating indie pop as Eric Calder takes the stage at the stunning Château du Lac! 🌟 \nDon’t miss this chance to experience Eric Calder’s unique sound in a beautiful setting. Get ready for an unforgettable evening! 🎶
URL:https://chateaudulac.ca/event/eric-calder-14/
CATEGORIES:Event,Featured,Live Music
ATTACH;FMTTYPE=image/jpeg:https://chateaudulac.ca/wp-content/uploads/2024/09/CDL_FB_post_E_ericcalder-14.jpg
END:VEVENT
BEGIN:VEVENT
DTSTART;TZID=America/Toronto:20240906T220000
DTEND;TZID=America/Toronto:20240906T220000
DTSTAMP:20260424T094007
CREATED:20240903T142124Z
LAST-MODIFIED:20240903T142124Z
UID:4908-1725660000-1725660000@chateaudulac.ca
SUMMARY:Country Night
DESCRIPTION:🤠 Get ready for a boot-stompin’ good time this Friday\, September 6th at Château du Lac. We’re bringing the best of country music straight to the stage! \nWhether you’re a country music fan or just looking for a fun night out\, this is the place to be! Grab your boots\, bring your friends\, and let’s make it a night to remember! 🍹🍔
URL:https://chateaudulac.ca/event/country-night-5/
CATEGORIES:Event,Featured,Party
ATTACH;FMTTYPE=image/jpeg:https://chateaudulac.ca/wp-content/uploads/2024/09/CDL_FB_post_E_countrynight-9.jpg
END:VEVENT
BEGIN:VEVENT
DTSTART;TZID=America/Toronto:20240902T210000
DTEND;TZID=America/Toronto:20240902T210000
DTSTAMP:20260424T094007
CREATED:20240812T175750Z
LAST-MODIFIED:20240812T175902Z
UID:4902-1725310800-1725310800@chateaudulac.ca
SUMMARY:Hysteria
DESCRIPTION:Get ready to rock out on Monday\, September 2nd at 9 PM with Hysteria\, the ultimate tribute band to Def Leppard! 🎶🤘 \nJoin us for a night of classic 80s heavy metal hits and relive the glory days of rock. It’s going to be an unforgettable evening at the Chat! 🎸🔥 \n📍 460 Rue Main\, Hudson
URL:https://chateaudulac.ca/event/hysteria-2/
CATEGORIES:Event,Featured,Live Music
ATTACH;FMTTYPE=image/jpeg:https://chateaudulac.ca/wp-content/uploads/2024/08/370243374_9936684013070430_3811028621785073555_n-1.jpg
END:VEVENT
BEGIN:VEVENT
DTSTART;TZID=America/Toronto:20240831T203000
DTEND;TZID=America/Toronto:20240831T203000
DTSTAMP:20260424T094007
CREATED:20240812T175626Z
LAST-MODIFIED:20240812T175627Z
UID:4900-1725136200-1725136200@chateaudulac.ca
SUMMARY:Sanitaerium
DESCRIPTION:Get ready for an electrifying night at the Chat! On Saturday\, August 31st at 8:30 PM\, we’re thrilled to welcome Hard rock/metal band Sanitaerium! 🤘 \nPrepare yourself for an evening packed with high energy and powerful performances. You won’t want to miss this! 🔥 \nSee you at the Chat! \n📍 460 Rue Main\, Hudson
URL:https://chateaudulac.ca/event/sanitaerium-2/
CATEGORIES:Event,Featured,Live Music
END:VEVENT
BEGIN:VEVENT
DTSTART;TZID=America/Toronto:20240830T220000
DTEND;TZID=America/Toronto:20240830T220000
DTSTAMP:20260424T094007
CREATED:20240718T192003Z
LAST-MODIFIED:20240718T192003Z
UID:4867-1725055200-1725055200@chateaudulac.ca
SUMMARY:Ladies Night
DESCRIPTION:Did you know that we have Ladies Night every Friday starting at 10 PM? 💃✨ \nEnjoy $5 speed rail drinks all night long. Bring your friends & join us for a night of fun! 🥂 \n📍460 Rue Main\, Hudson
URL:https://chateaudulac.ca/event/ladies-night-42/
CATEGORIES:Event,Party
ATTACH;FMTTYPE=image/jpeg:https://chateaudulac.ca/wp-content/uploads/2024/07/CDL_FB_post_ladiesnight-7.jpg
END:VEVENT
BEGIN:VEVENT
DTSTART;TZID=America/Toronto:20240829T233000
DTEND;TZID=America/Toronto:20240829T233000
DTSTAMP:20260424T094007
CREATED:20240718T202807Z
LAST-MODIFIED:20240812T180059Z
UID:4892-1724974200-1724974200@chateaudulac.ca
SUMMARY:Eric Calder
DESCRIPTION:We’re thrilled to announce that a Chat favourite\, Eric Calder\, will be performing live on Thursday\, August 29th! 🎤 \nJoin us for an enchanting evening filled with his signature indie/pop sounds. 🎶 \n📍 460 Rue Main\, Hudson
URL:https://chateaudulac.ca/event/eric-calder-13/
CATEGORIES:Event,Live Music,Party
ATTACH;FMTTYPE=image/jpeg:https://chateaudulac.ca/wp-content/uploads/2024/07/CDL_FB_post_E_ericcalder-12.jpg
END:VEVENT
BEGIN:VEVENT
DTSTART;TZID=America/Toronto:20240825T210000
DTEND;TZID=America/Toronto:20240825T210000
DTSTAMP:20260424T094007
CREATED:20240718T194626Z
LAST-MODIFIED:20240718T194626Z
UID:4885-1724619600-1724619600@chateaudulac.ca
SUMMARY:Industry Night
DESCRIPTION:Every Sunday starting at 9 PM\, it’s Industry Night at the Chat. Enjoy 5$ speed rail drinks & free pool! 🎱 \nJoin us for a night of fun and relaxation after a hard week’s work. 🍻 \n📍460 Rue Main\, Hudson
URL:https://chateaudulac.ca/event/industry-night-42/
CATEGORIES:Event,Party
ATTACH;FMTTYPE=image/jpeg:https://chateaudulac.ca/wp-content/uploads/2024/07/CDL_FB_post_industrynight-11.jpg
END:VEVENT
BEGIN:VEVENT
DTSTART;TZID=America/Toronto:20240823T220000
DTEND;TZID=America/Toronto:20240823T220000
DTSTAMP:20260424T094007
CREATED:20240718T191826Z
LAST-MODIFIED:20240718T191826Z
UID:4864-1724450400-1724450400@chateaudulac.ca
SUMMARY:Ladies Night
DESCRIPTION:Did you know that we have Ladies Night every Friday starting at 10 PM? 💃✨ \nEnjoy $5 speed rail drinks all night long. Bring your friends & join us for a night of fun! 🥂 \n📍460 Rue Main\, Hudson
URL:https://chateaudulac.ca/event/ladies-night-41/
CATEGORIES:Event,Party
ATTACH;FMTTYPE=image/jpeg:https://chateaudulac.ca/wp-content/uploads/2024/07/CDL_FB_post_ladiesnight-7-1.jpg
END:VEVENT
BEGIN:VEVENT
DTSTART;TZID=America/Toronto:20240818T210000
DTEND;TZID=America/Toronto:20240818T210000
DTSTAMP:20260424T094007
CREATED:20240718T194510Z
LAST-MODIFIED:20240718T194510Z
UID:4883-1724014800-1724014800@chateaudulac.ca
SUMMARY:Industry Night
DESCRIPTION:Every Sunday starting at 9 PM\, it’s Industry Night at the Chat. Enjoy 5$ speed rail drinks & free pool! 🎱 \nJoin us for a night of fun and relaxation after a hard week’s work. 🍻 \n📍460 Rue Main\, Hudson
URL:https://chateaudulac.ca/event/industry-night-41/
CATEGORIES:Event,Party
ATTACH;FMTTYPE=image/jpeg:https://chateaudulac.ca/wp-content/uploads/2024/07/CDL_FB_post_industrynight-11.jpg
END:VEVENT
BEGIN:VEVENT
DTSTART;TZID=America/Toronto:20240817T203000
DTEND;TZID=America/Toronto:20240817T203000
DTSTAMP:20260424T094007
CREATED:20240718T202317Z
LAST-MODIFIED:20240812T180001Z
UID:4890-1723926600-1723926600@chateaudulac.ca
SUMMARY:Karma
DESCRIPTION:Join us on Saturday\, August 17th for an evening with our musical guest\, Karma! 🎸 \nGet ready to experience Classic Rock and Blues the way it was meant to be played and heard. It’s going to be a night you won’t want to miss. 🎤✨ \n📍 460 Rue Main\, Hudson
URL:https://chateaudulac.ca/event/karma-3/
CATEGORIES:Event,Live Music
ATTACH;FMTTYPE=image/jpeg:https://chateaudulac.ca/wp-content/uploads/2024/07/CDL_FB_post_E_karma-2.jpg
END:VEVENT
BEGIN:VEVENT
DTSTART;TZID=America/Toronto:20240816T220000
DTEND;TZID=America/Toronto:20240816T220000
DTSTAMP:20260424T094007
CREATED:20240718T191417Z
LAST-MODIFIED:20240718T191442Z
UID:4859-1723845600-1723845600@chateaudulac.ca
SUMMARY:Ladies Night
DESCRIPTION:Did you know that we have Ladies Night every Friday starting at 10 PM? 💃✨ \nEnjoy $5 speed rail drinks all night long. Bring your friends & join us for a night of fun! 🥂 \n📍460 Rue Main\, Hudson
URL:https://chateaudulac.ca/event/4859/
CATEGORIES:Event,Party
ATTACH;FMTTYPE=image/jpeg:https://chateaudulac.ca/wp-content/uploads/2024/07/CDL_FB_post_ladiesnight-7.jpg
END:VEVENT
BEGIN:VEVENT
DTSTART;TZID=America/Toronto:20240815T170000
DTEND;TZID=America/Toronto:20240815T170000
DTSTAMP:20260424T094007
CREATED:20240812T175328Z
LAST-MODIFIED:20240812T175329Z
UID:4898-1723741200-1723741200@chateaudulac.ca
SUMMARY:Jeff Waters
DESCRIPTION:Get ready for an evening of incredible music! On Thursday\, August 15th at 5 PM\, we welcome the talented Jeff Waters as our musical guest. 🎸🎶 \nJeff is well-renowned in the area\, and he’s sure to bring the good vibes to the Chat. If you’re looking for a great time\, you won’t want to miss this! 🍻 \nSee you there! \n📍 460 Rue Main\, Hudson
URL:https://chateaudulac.ca/event/jeff-waters-5/
CATEGORIES:Event,Featured,Live Music
END:VEVENT
BEGIN:VEVENT
DTSTART;TZID=America/Toronto:20240811T210000
DTEND;TZID=America/Toronto:20240811T210000
DTSTAMP:20260424T094007
CREATED:20240718T194354Z
LAST-MODIFIED:20240718T194354Z
UID:4881-1723410000-1723410000@chateaudulac.ca
SUMMARY:Industry Night
DESCRIPTION:Every Sunday starting at 9 PM\, it’s Industry Night at the Chat. Enjoy 5$ speed rail drinks & free pool! 🎱 \nJoin us for a night of fun and relaxation after a hard week’s work. 🍻 \n📍460 Rue Main\, Hudson
URL:https://chateaudulac.ca/event/industry-night-40/
CATEGORIES:Event,Party
ATTACH;FMTTYPE=image/jpeg:https://chateaudulac.ca/wp-content/uploads/2024/07/CDL_FB_post_industrynight-11.jpg
END:VEVENT
BEGIN:VEVENT
DTSTART;TZID=America/Toronto:20240809T220000
DTEND;TZID=America/Toronto:20240809T220000
DTSTAMP:20260424T094007
CREATED:20240718T191306Z
LAST-MODIFIED:20240718T191306Z
UID:4857-1723240800-1723240800@chateaudulac.ca
SUMMARY:Ladies Night
DESCRIPTION:Did you know that we have Ladies Night every Friday starting at 10 PM? 💃✨ \nEnjoy $5 speed rail drinks all night long. Bring your friends & join us for a night of fun! 🥂 \n📍460 Rue Main\, Hudson
URL:https://chateaudulac.ca/event/ladies-night-40/
CATEGORIES:Event,Party
ATTACH;FMTTYPE=image/jpeg:https://chateaudulac.ca/wp-content/uploads/2024/07/CDL_FB_post_ladiesnight-7.jpg
END:VEVENT
BEGIN:VEVENT
DTSTART;TZID=America/Toronto:20240804T210000
DTEND;TZID=America/Toronto:20240804T210000
DTSTAMP:20260424T094007
CREATED:20240718T193626Z
LAST-MODIFIED:20240718T193710Z
UID:4878-1722805200-1722805200@chateaudulac.ca
SUMMARY:Industry Night
DESCRIPTION:Every Sunday starting at 9 PM\, it’s Industry Night at the Chat. Enjoy 5$ speed rail drinks & free pool! 🎱 \nJoin us for a night of fun and relaxation after a hard week’s work. 🍻 \n📍460 Rue Main\, Hudson
URL:https://chateaudulac.ca/event/industry-night-39/
CATEGORIES:Event,Party
ATTACH;FMTTYPE=image/jpeg:https://chateaudulac.ca/wp-content/uploads/2024/07/CDL_FB_post_industrynight-11.jpg
END:VEVENT
BEGIN:VEVENT
DTSTART;TZID=America/Toronto:20240802T220000
DTEND;TZID=America/Toronto:20240802T220000
DTSTAMP:20260424T094007
CREATED:20240718T194822Z
LAST-MODIFIED:20240725T202150Z
UID:4887-1722636000-1722636000@chateaudulac.ca
SUMMARY:Country Night
DESCRIPTION:Our Country Nights are so renowned that if you’re in Hudson\, just follow the music and it’ll lead you to the Chat! 🎸 \nCome join us for an evening filled with great tunes\, dancing\, and unforgettable memories. YEEHAW! 🤠 \nSee you there at 10 PM! \n📍460 Rue Main\, Hudson
URL:https://chateaudulac.ca/event/country-night-4/
CATEGORIES:Event,Party
ATTACH;FMTTYPE=image/jpeg:https://chateaudulac.ca/wp-content/uploads/2024/07/CDL_FB_post_E_countrynight_V2-1-scaled.jpg
END:VEVENT
BEGIN:VEVENT
DTSTART;TZID=America/Toronto:20240802T220000
DTEND;TZID=America/Toronto:20240802T220000
DTSTAMP:20260424T094007
CREATED:20240718T191141Z
LAST-MODIFIED:20240718T191141Z
UID:4854-1722636000-1722636000@chateaudulac.ca
SUMMARY:Ladies Night
DESCRIPTION:Did you know that we have Ladies Night every Friday starting at 10 PM? 💃✨ \nEnjoy $5 speed rail drinks all night long. Bring your friends & join us for a night of fun! 🥂 \n📍460 Rue Main\, Hudson
URL:https://chateaudulac.ca/event/ladies-night-39/
CATEGORIES:Event,Party
ATTACH;FMTTYPE=image/jpeg:https://chateaudulac.ca/wp-content/uploads/2024/07/CDL_FB_post_ladiesnight-7.jpg
END:VEVENT
BEGIN:VEVENT
DTSTART;TZID=America/Toronto:20240728T210000
DTEND;TZID=America/Toronto:20240728T210000
DTSTAMP:20260424T094007
CREATED:20240607T143615Z
LAST-MODIFIED:20240711T160707Z
UID:4829-1722200400-1722200400@chateaudulac.ca
SUMMARY:Industry Night
DESCRIPTION:Every Sunday\, Château du Lac celebrates YOU with Industry Night starting at 9 PM! 🍹 \nEnjoy $5 speedrail drinks and free pool as our way of saying THANK YOU for all your hard work. 🎱 \nBring your coworkers and unwind after a long week. We can’t wait to see you! ✨ \n📍460 Main\, Hudson
URL:https://chateaudulac.ca/event/industry-night-38/
CATEGORIES:Event,Featured,Party
ATTACH;FMTTYPE=image/jpeg:https://chateaudulac.ca/wp-content/uploads/2024/06/CDL_FB_post_industrynight-10.jpg
END:VEVENT
BEGIN:VEVENT
DTSTART;TZID=America/Toronto:20240728T200000
DTEND;TZID=America/Toronto:20240728T230000
DTSTAMP:20260424T094007
CREATED:20240607T143455Z
LAST-MODIFIED:20240711T160648Z
UID:4827-1722196800-1722207600@chateaudulac.ca
SUMMARY:Karaoke Night
DESCRIPTION:Join us every Sunday for Karaoke Night at the Chat from 8 to 11 PM! 🎤 \nWhether you’re a shower singer or a stage star\, it’s your time to shine. 🌟 \nWhat song will you be singing?
URL:https://chateaudulac.ca/event/karaoke-night-4/
CATEGORIES:Event,Featured,Party
ATTACH;FMTTYPE=image/jpeg:https://chateaudulac.ca/wp-content/uploads/2024/06/karakoe.jpg
END:VEVENT
BEGIN:VEVENT
DTSTART;TZID=America/Toronto:20240726T220000
DTEND;TZID=America/Toronto:20240726T220000
DTSTAMP:20260424T094007
CREATED:20240607T142921Z
LAST-MODIFIED:20240711T160010Z
UID:4821-1722031200-1722031200@chateaudulac.ca
SUMMARY:Summer Beach Party
DESCRIPTION:Get ready to celebrate summer in style at the Chat! 🌴🏖️ \nJoin us on Saturday\, July 26th\, at 10 PM for our epic Summer Beach Party. It’s like a tropical vacation\, minus the sand in your bathing suit! 😉 \nGrab your friends and come soak up the good vibes with us. See you there! 🍹🌞 \n📍460 Main\, Hudson
URL:https://chateaudulac.ca/event/summer-beach-party/
CATEGORIES:Event,Featured,Featured DJ,Party
ATTACH;FMTTYPE=image/jpeg:https://chateaudulac.ca/wp-content/uploads/2024/06/CDL_FB_post_E_beachparty-2.jpg
END:VEVENT
BEGIN:VEVENT
DTSTART;TZID=America/Toronto:20240726T220000
DTEND;TZID=America/Toronto:20240726T220000
DTSTAMP:20260424T094007
CREATED:20240607T141329Z
LAST-MODIFIED:20240711T160544Z
UID:4813-1722031200-1722031200@chateaudulac.ca
SUMMARY:Ladies Night
DESCRIPTION:Join us every Friday at Château du Lac for Ladies Night starting at 10 PM! 💃 \nEnjoy $5 speed raildrinks all night long and make it a night to remember. 🍹 \nWho’s in for a night of fun and laughter? Tag your squad in the comments below! 👇
URL:https://chateaudulac.ca/event/ladies-night-38/
CATEGORIES:Event,Party
ATTACH;FMTTYPE=image/jpeg:https://chateaudulac.ca/wp-content/uploads/2024/06/CDL_FB_post_ladiesnight-6-1.jpg
END:VEVENT
BEGIN:VEVENT
DTSTART;TZID=America/Toronto:20240725T170000
DTEND;TZID=America/Toronto:20240725T190000
DTSTAMP:20260424T094007
CREATED:20240607T135528Z
LAST-MODIFIED:20240711T160433Z
UID:4801-1721926800-1721934000@chateaudulac.ca
SUMMARY:Eric Calder
DESCRIPTION:Join us on Thursday\, July 25th\, at 5PM\, for an unforgettable evening with Eric Calder as our musical guest! 🎤 \nCome grab a beer and enjoy a night filled with good music and good vibes. 🍻✨ \nWe look forward to seeing you! \n📍460 Main\, Hudson
URL:https://chateaudulac.ca/event/eric-calder-12/
CATEGORIES:Event,Featured,Live Music
ATTACH;FMTTYPE=image/jpeg:https://chateaudulac.ca/wp-content/uploads/2024/06/CDL_FB_post_E_ericcalder-10.jpg
END:VEVENT
BEGIN:VEVENT
DTSTART;TZID=America/Toronto:20240721T210000
DTEND;TZID=America/Toronto:20240721T210000
DTSTAMP:20260424T094007
CREATED:20240607T143254Z
LAST-MODIFIED:20240711T160339Z
UID:4825-1721595600-1721595600@chateaudulac.ca
SUMMARY:Industry Night
DESCRIPTION:Every Sunday\, Château du Lac celebrates YOU with Industry Night starting at 9 PM! 🍹 \nEnjoy $5 speedrail drinks and free pool as our way of saying THANK YOU for all your hard work. 🎱 \nBring your coworkers and unwind after a long week. We can’t wait to see you! ✨ \n📍460 Main\, Hudson
URL:https://chateaudulac.ca/event/industry-night-37/
CATEGORIES:Event,Featured,Party
ATTACH;FMTTYPE=image/jpeg:https://chateaudulac.ca/wp-content/uploads/2024/06/CDL_FB_post_industrynight-10.jpg
END:VEVENT
BEGIN:VEVENT
DTSTART;TZID=America/Toronto:20240721T200000
DTEND;TZID=America/Toronto:20240721T230000
DTSTAMP:20260424T094007
CREATED:20240607T143124Z
LAST-MODIFIED:20240711T160310Z
UID:4823-1721592000-1721602800@chateaudulac.ca
SUMMARY:Karaoke Night
DESCRIPTION:Join us every Sunday for Karaoke Night at the Chat from 8 to 11 PM! 🎤 \nWhether you’re a shower singer or a stage star\, it’s your time to shine. 🌟 \nWhat song will you be singing?
URL:https://chateaudulac.ca/event/karaoke-night-3/
CATEGORIES:Event,Featured,Party
ATTACH;FMTTYPE=image/jpeg:https://chateaudulac.ca/wp-content/uploads/2024/06/karakoe-1.jpg
END:VEVENT
BEGIN:VEVENT
DTSTART;TZID=America/Toronto:20240720T200000
DTEND;TZID=America/Toronto:20240720T223000
DTSTAMP:20260424T094007
CREATED:20240607T135343Z
LAST-MODIFIED:20240711T160102Z
UID:4799-1721505600-1721514600@chateaudulac.ca
SUMMARY:Forgotten Frequency
DESCRIPTION:We’re thrilled to announce that Forgotten Frequency will be our invited musical guest on Saturday\, July 20th\, at 8 PM! 🎶 \nGet ready for a night of classic rock\, blues\, and country all rolled into one band. You won’t want to miss this! 🎤🎸 \nDon’t forget to make the date on your calendar! 😉
URL:https://chateaudulac.ca/event/forgotten-frequency2/
CATEGORIES:Event,Featured,Live Music
ATTACH;FMTTYPE=image/jpeg:https://chateaudulac.ca/wp-content/uploads/2024/06/CDL_FB_post_E_forgottenfrequency-3.jpg
END:VEVENT
BEGIN:VEVENT
DTSTART;TZID=America/Toronto:20240719T220000
DTEND;TZID=America/Toronto:20240719T220000
DTSTAMP:20260424T094007
CREATED:20240607T141800Z
LAST-MODIFIED:20240711T155412Z
UID:4815-1721426400-1721426400@chateaudulac.ca
SUMMARY:Country Night
DESCRIPTION:Join us on Friday\, July 19th\, for the ever-popular Country Night at the Chat! 🤠🎶 \nThis evening has become a go-to for Hudson partygoers\, and it’s easy to see why. Come experience the hype for yourself! 💃🍻 \nIt all kicks off at 10 PM. See you there! \n📍460 Main\, Hudson
URL:https://chateaudulac.ca/event/country-night-3/
CATEGORIES:Event,Featured,Featured DJ,Party
ATTACH;FMTTYPE=image/jpeg:https://chateaudulac.ca/wp-content/uploads/2024/06/CDL_FB_post_E_countrynight-7.jpg
END:VEVENT
BEGIN:VEVENT
DTSTART;TZID=America/Toronto:20240719T220000
DTEND;TZID=America/Toronto:20240719T220000
DTSTAMP:20260424T094007
CREATED:20240607T141217Z
LAST-MODIFIED:20240711T155907Z
UID:4811-1721426400-1721426400@chateaudulac.ca
SUMMARY:Ladies Night
DESCRIPTION:Join us every Friday at Château du Lac for Ladies Night starting at 10 PM! 💃 \nEnjoy $5 speedrail drinks all night long and make it a night to remember. 🍹 \nWho’s in for a night of fun and laughter? Tag your squad in the comments below! 👇
URL:https://chateaudulac.ca/event/ladies-night-37/
CATEGORIES:Event,Party
ATTACH;FMTTYPE=image/jpeg:https://chateaudulac.ca/wp-content/uploads/2024/06/CDL_FB_post_ladiesnight-6-1.jpg
END:VEVENT
BEGIN:VEVENT
DTSTART;TZID=America/Toronto:20240718T170000
DTEND;TZID=America/Toronto:20240718T190000
DTSTAMP:20260424T094007
CREATED:20240607T145520Z
LAST-MODIFIED:20240711T155812Z
UID:4831-1721322000-1721329200@chateaudulac.ca
SUMMARY:Morgan Weinmeister
DESCRIPTION:Join us on Thursday\, July 18th\, from 5 to 7 PM for an enchanting evening with Morgan Weinmeister! It’s always a pleasure to be serenaded by her smooth & silky voice. 😎 \nHer EP “Bruises & Bellyaches” is available on all streaming platforms\, so make sure to check it out! 🎶 \nSee you at the Chat for a night of beautiful music and great vibes! 🍻 \n📍460 Main Road\, Hudson
URL:https://chateaudulac.ca/event/morgan-weinmeister-4/
CATEGORIES:Event,Featured,Live Music
ATTACH;FMTTYPE=image/jpeg:https://chateaudulac.ca/wp-content/uploads/2024/06/CDL_FB_post_E_morgi-3.jpg
END:VEVENT
BEGIN:VEVENT
DTSTART;TZID=America/Toronto:20240714T210000
DTEND;TZID=America/Toronto:20240714T210000
DTSTAMP:20260424T094007
CREATED:20240607T142538Z
LAST-MODIFIED:20240711T155710Z
UID:4819-1720990800-1720990800@chateaudulac.ca
SUMMARY:Industry Night
DESCRIPTION:Every Sunday\, Château du Lac celebrates YOU with Industry Night starting at 9 PM! 🍹 \nEnjoy $5 speedrail drinks and free pool as our way of saying THANK YOU for all your hard work. 🎱 \nBring your coworkers and unwind after a long week. We can’t wait to see you! ✨ \n📍460 Main\, Hudson
URL:https://chateaudulac.ca/event/industry-night-36/
CATEGORIES:Event,Party
ATTACH;FMTTYPE=image/jpeg:https://chateaudulac.ca/wp-content/uploads/2024/06/CDL_FB_post_industrynight-10.jpg
END:VEVENT
BEGIN:VEVENT
DTSTART;TZID=America/Toronto:20240714T200000
DTEND;TZID=America/Toronto:20240714T230000
DTSTAMP:20260424T094007
CREATED:20240607T142037Z
LAST-MODIFIED:20240711T155618Z
UID:4817-1720987200-1720998000@chateaudulac.ca
SUMMARY:Karaoke Night
DESCRIPTION:Join us every Sunday for Karaoke Night at the Chat from 8 to 11 PM! 🎤 \nWhether you’re a shower singer or a stage star\, it’s your time to shine. 🌟 \nWhat song will you be singing? Let us know in the comments! 👇
URL:https://chateaudulac.ca/event/karaoke-night-2/
CATEGORIES:Event,Featured,Party
ATTACH;FMTTYPE=image/jpeg:https://chateaudulac.ca/wp-content/uploads/2024/06/karakoe.jpg
END:VEVENT
END:VCALENDAR